BEGIN:VCALENDAR
VERSION:2.0
PRODID:-//ChamberMaster//Event Calendar 2.0//EN
METHOD:PUBLISH
X-PUBLISHED-TTL:P3D
REFRESH-INTERVAL:P3D
CALSCALE:GREGORIAN
BEGIN:VEVENT
DTSTART:20190615T140000Z
DTEND:20190615T150000Z
X-MICROSOFT-CDO-ALLDAYEVENT:FALSE
SUMMARY:Zumba for a Cause
DESCRIPTION:Zumba for a Cause\n\nSaturday June 15th\n\n10:00 a.m.\n\nKJfitness\n\n1565 Main St. Building 1 Suite D\, Tewksbury\n\n$20 class fee.\n\nProceeds going to Special Olympics!
X-ALT-DESC;FMTTYPE=text/html:<span style="font-size: 11pt\; line-height: 107%\; font-family: Calibri\, sans-serif\; color: rgb(50\, 49\, 48)\; background-image: initial\; background-position: initial\; background-size: initial\; background-repeat: initial\; background-attachment: initial\; background-origin: initial\; background-clip: initial\;">Zumba for a Cause<br />\nSaturday June 15th<br />\n10:00 a.m.<br />\nKJfitness<br />\n1565 Main St. Building 1 Suite D\, Tewksbury<br />\n$20 class fee.<br />\nProceeds going to Special Olympics!&nbsp\;</span>
LOCATION:KJfitness 1565 Main St. Building 1 Suite D\, Tewksbury
UID:e.2938.5302
SEQUENCE:3
DTSTAMP:20260425T031119Z
URL:https://business.wilmingtontewksburychamber.org/events/details/zumba-for-a-cause-5302
END:VEVENT

END:VCALENDAR
