BEGIN:VCALENDAR
VERSION:2.0
PRODID:-//ChamberMaster//Event Calendar 2.0//EN
METHOD:PUBLISH
X-PUBLISHED-TTL:P3D
REFRESH-INTERVAL:P3D
CALSCALE:GREGORIAN
BEGIN:VEVENT
DTSTART:20180926T200000Z
DTEND:20180926T210000Z
X-MICROSOFT-CDO-ALLDAYEVENT:FALSE
SUMMARY:Yoga Night at Bayberry
DESCRIPTION:Join us for a yoga night lead by our professional yoga instructor! Enjoy a relaxing class and stay for Eat Fresh\, Eat Local small bites prepared by our chefs!
X-ALT-DESC;FMTTYPE=text/html:Join us for a yoga night lead by our professional yoga instructor! Enjoy a relaxing class and stay for Eat Fresh\, Eat Local small bites prepared by our chefs!&nbsp\;&nbsp\;&nbsp\;&nbsp\;&nbsp\;&nbsp\;&nbsp\;&nbsp\;&nbsp\;&nbsp\;&nbsp\;&nbsp\;
LOCATION:Bayberry at Emerald Court 2000 Emerald Court Tewksbury\, MA
UID:e.2938.5220
SEQUENCE:3
DTSTAMP:20260425T191447Z
URL:https://business.wilmingtontewksburychamber.org/events/details/yoga-night-at-bayberry-5220
END:VEVENT

END:VCALENDAR
