BEGIN:VCALENDAR
VERSION:2.0
PRODID:-//ChamberMaster//Event Calendar 2.0//EN
METHOD:PUBLISH
X-PUBLISHED-TTL:P3D
REFRESH-INTERVAL:P3D
CALSCALE:GREGORIAN
BEGIN:VEVENT
DTSTART:20180411T213000Z
DTEND:20180411T233000Z
X-MICROSOFT-CDO-ALLDAYEVENT:FALSE
SUMMARY:Women in Business Networking Event: The Power of Connections
DESCRIPTION:Join us at our quarterly mixer and enjoy a relaxing evening of tasty appetizers\, complimentary wine\, networking and a presentation on creating unconventional partnerships. \n\n \n\nOur guest speaker\, Juliet Leydon\, REALTOR with RE/MAX Leading Edge\, will help you explore who around you has a similar audience and how you can work together to double your reach.\n\n \n\nOur Women In Business Networking series is exclusive to members from the Wilmington/Tewksbury\, Reading/North Reading\, Stoneham\, Wakefield/Lynnfield and Melrose Chambers.\n\n \n\nOur February event had over 75 women so don't miss out on these fun quarterly events. \n\nPre-registration is required.
X-ALT-DESC;FMTTYPE=text/html:<div style="color: rgb(56\, 123\, 55)\; font-family: Arial\; font-size: 12px\; white-space: pre-wrap\; background-color: rgb(255\, 255\, 255)\;"><span style="font-size:14px\;"><span style="font-family:tahoma\;"><span style="color:#000000\;">Join us at our quarterly mixer and enjoy a relaxing evening of tasty appetizers\, complimentary wine\, networking and a presentation on creating unconventional partnerships.&nbsp\;</span></span></span></div>\n\n<div style="color: rgb(56\, 123\, 55)\; font-family: Arial\; font-size: 12px\; white-space: pre-wrap\; background-color: rgb(255\, 255\, 255)\;">&nbsp\;</div>\n\n<div style="color: rgb(56\, 123\, 55)\; font-family: Arial\; font-size: 12px\; white-space: pre-wrap\; background-color: rgb(255\, 255\, 255)\;"><span style="font-size:14px\;"><span style="font-family:tahoma\;"><span style="color:#000000\;">Our guest speaker\, Juliet Leydon\, REALTOR with RE/MAX Leading Edge\, will help you explore who around you has a similar audience and how you can work together to double your reach.</span></span></span></div>\n\n<div style="color: rgb(56\, 123\, 55)\; font-family: Arial\; font-size: 12px\; white-space: pre-wrap\; background-color: rgb(255\, 255\, 255)\;">&nbsp\;</div>\n\n<div style="color: rgb(56\, 123\, 55)\; font-family: Arial\; font-size: 12px\; white-space: pre-wrap\; background-color: rgb(255\, 255\, 255)\;"><span style="font-size:14px\;"><span style="font-family:tahoma\;"><span style="color:#000000\;">Our Women In Business Networking series is exclusive to members from the Wilmington/Tewksbury\, Reading/North Reading\, Stoneham\, Wakefield/Lynnfield and Melrose Chambers.</span></span></span></div>\n\n<div style="color: rgb(56\, 123\, 55)\; font-family: Arial\; font-size: 12px\; white-space: pre-wrap\; background-color: rgb(255\, 255\, 255)\;">&nbsp\;</div>\n\n<div style="color: rgb(56\, 123\, 55)\; font-family: Arial\; font-size: 12px\; white-space: pre-wrap\; background-color: rgb(255\, 255\, 255)\; text-align: center\;"><span style="font-size:14px\;"><span style="font-family:tahoma\;"><span style="color:#000000\;"><span style="font-weight: bold\;">Our February event had over 75 women so don&#39\;t miss out on these fun quarterly events. </span></span></span></span></div>\n\n<div style="color: rgb(56\, 123\, 55)\; font-family: Arial\; font-size: 12px\; white-space: pre-wrap\; background-color: rgb(255\, 255\, 255)\; text-align: center\;"><span style="font-size:14px\;"><span style="font-family:tahoma\;"><span style="color:#000000\;"><span style="font-weight: bold\;">Pre-registration is required.</span></span></span></span></div>\n
LOCATION:Hosted and sponsored by: The Residence at Melrose Station 158 Essex Street Melrose\, MA 02176
UID:e.2938.1157
SEQUENCE:3
DTSTAMP:20260426T024154Z
URL:https://business.wilmingtontewksburychamber.org/events/details/women-in-business-networking-event-the-power-of-connections-1157
END:VEVENT

END:VCALENDAR
