BEGIN:VCALENDAR
VERSION:2.0
PRODID:-//ChamberMaster//Event Calendar 2.0//EN
METHOD:PUBLISH
X-PUBLISHED-TTL:P3D
REFRESH-INTERVAL:P3D
CALSCALE:GREGORIAN
BEGIN:VEVENT
DTSTART:20190213T223000Z
DTEND:20190214T003000Z
X-MICROSOFT-CDO-ALLDAYEVENT:FALSE
SUMMARY:Women in Business Networking Event: Structured Networking
DESCRIPTION:Join us at our next quarterly Multi-Chamber WIB event and enjoy an evening of tasty appetizers\, complimentary wine\, and some structured networking exercises.\n\n \n\nThis popular networking format includes high gain questions that foster discussion and cannot be answered with a simple "yes" or "no". By using high gain questions focused on business issues\, you can discover connections and commonalities with local women from a diverse range of skills and backgrounds. You will work in small groups that will be shuffled about during the evening and leave with a fresh perspective and new insights to apply to your own company. Best of all\, it's a lot of fun and can help you cut through small talk to really learn about each other's business challenges and success stories.\n\n \n\nOur Women In Business Networking series is exclusive to members/guests of the Wilmington/Tewksbury\, Reading/North Reading\, Stoneham\, Wakefield/Lynnfield and Melrose Chambers.  Pre-registration is required.
X-ALT-DESC;FMTTYPE=text/html:<div style="color: rgb(56\, 123\, 55)\; font-family: Arial\; font-size: 12px\; white-space: pre-wrap\; background-color: rgb(255\, 255\, 255)\;"><span style="color: rgb(139\, 45\, 113)\; font-family: Arial\, Verdana\, Helvetica\, sans-serif\; font-size: 14px\;">Join us at our next quarterly Multi-Chamber WIB event and enjoy an evening of tasty appetizers\, complimentary wine\, and some structured networking exercises.</span></div>\n\n<div style="color: rgb(56\, 123\, 55)\; font-family: Arial\; font-size: 12px\; white-space: pre-wrap\; background-color: rgb(255\, 255\, 255)\;">&nbsp\;</div>\n\n<div style="color: rgb(56\, 123\, 55)\; font-family: Arial\; font-size: 12px\; white-space: pre-wrap\; background-color: rgb(255\, 255\, 255)\;"><span style="color: rgb(139\, 45\, 113)\; font-family: Arial\, Verdana\, Helvetica\, sans-serif\; font-size: 14px\;">This popular networking format includes high gain questions that foster discussion and cannot be answered with a simple &quot\;yes&quot\; or &quot\;no&quot\;. By using high gain questions focused on business issues\, you can discover connections and commonalities with local women from a diverse range of skills and backgrounds. You will work in small groups that will be shuffled about during the evening and leave with a fresh perspective and new insights to apply to your own company. Best of all\, it&#39\;s a lot of fun and can help you cut through small talk to really learn about each other&#39\;s business challenges and success stories.</span></div>\n\n<div style="color: rgb(56\, 123\, 55)\; font-family: Arial\; font-size: 12px\; white-space: pre-wrap\; background-color: rgb(255\, 255\, 255)\;">&nbsp\;</div>\n\n<div style="color: rgb(56\, 123\, 55)\; font-family: Arial\; font-size: 12px\; white-space: pre-wrap\; background-color: rgb(255\, 255\, 255)\;"><span style="color: rgb(139\, 45\, 113)\; font-family: Arial\, Verdana\, Helvetica\, sans-serif\; font-size: 14px\;">Our Women In Business Networking series is exclusive to members/guests of the Wilmington/Tewksbury\, Reading/North Reading\, Stoneham\, Wakefield/Lynnfield and Melrose Chambers. </span><span style="color: rgb(139\, 45\, 113)\; font-weight: bold\; font-family: Arial\, Verdana\, Helvetica\, sans-serif\; font-size: 14px\;"> Pre-registration is required.</span></div>\n
LOCATION:The Arbors at Stoneham 140 Franklin Street Stoneham (Parking available next door at Kindercare)
UID:e.2938.5254
SEQUENCE:3
DTSTAMP:20260424T084424Z
URL:https://business.wilmingtontewksburychamber.org/events/details/women-in-business-networking-event-structured-networking-5254
END:VEVENT

END:VCALENDAR
