BEGIN:VCALENDAR
VERSION:2.0
PRODID:-//ChamberMaster//Event Calendar 2.0//EN
METHOD:PUBLISH
X-PUBLISHED-TTL:P3D
REFRESH-INTERVAL:P3D
CALSCALE:GREGORIAN
BEGIN:VEVENT
DTSTART:20200212T223000Z
DTEND:20200213T003000Z
X-MICROSOFT-CDO-ALLDAYEVENT:FALSE
SUMMARY:Women In Business Networking Event - Sparking Relationships
DESCRIPTION:Please join us at our first Multi-Chamber Women In Business event of 2020!\n\n\n\nCome celebrate Valentine's week by "sparking" relationships with fellow business women while enjoying complimentary appetizers\, cash bar\, and some fun networking activities.\n\n\n\nRelationships = Referrals = Sales\n\n\n\nOur Women In Business Networking series is exclusive to members and guests of the Wilmington/Tewksbury\, Reading/North Reading\, Stoneham\, Wakefield/Lynnfield and Melrose Chambers.\n\n\n\nRegister Today!
X-ALT-DESC;FMTTYPE=text/html:<p><span style="color:#EB4C39\;"><span style="font-family:arial\,sans-serif\;"><span style="font-size:10.5pt\;">P<span style="font-size:14px\;">lease join us at our first Multi-Chamber Women In Business event of 2020!</span></span></span></span><br />\n<br />\n<span style="font-size:14px\;"><span style="color:#EB4C39\;"><span style="font-family:arial\,sans-serif\;">Come celebrate Valentine&#39\;s week by &quot\;sparking&quot\; relationships with fellow business women while enjoying complimentary appetizers\, cash bar\, and some fun networking activities.</span></span><br />\n<br />\n<span style="color:#EB4C39\;"><span style="font-family:arial\,sans-serif\;">Relationships = Referrals = Sales</span></span><br />\n<br />\n<span style="color:#EB4C39\;"><span style="font-family:arial\,sans-serif\;">Our Women In Business Networking series is exclusive to members and guests of the Wilmington/Tewksbury\, Reading/North Reading\, Stoneham\, Wakefield/Lynnfield and Melrose Chambers.</span></span><br />\n<br />\n<span style="color:#EB4C39\;"><span style="font-family:arial\,sans-serif\;">Register Today!</span></span></span></p>\n
LOCATION:Hampton Inn Boston Woburn 371 Washington Street\, Woburn
UID:e.2938.6622
SEQUENCE:3
DTSTAMP:20260424T162017Z
URL:https://business.wilmingtontewksburychamber.org/events/details/women-in-business-networking-event-sparking-relationships-6622
END:VEVENT

END:VCALENDAR
