BEGIN:VCALENDAR
VERSION:2.0
PRODID:-//ChamberMaster//Event Calendar 2.0//EN
METHOD:PUBLISH
X-PUBLISHED-TTL:P3D
REFRESH-INTERVAL:P3D
CALSCALE:GREGORIAN
BEGIN:VEVENT
DTSTART:20181205T223000Z
DTEND:20181206T003000Z
X-MICROSOFT-CDO-ALLDAYEVENT:FALSE
SUMMARY:Women in Business Networking Event: Designing a Life of Simplicity and Ease
DESCRIPTION:Join us at our next quarterly Multi-Chamber WIB event and enjoy a relaxing evening of tasty appetizers\, complimentary wine\, networking and a presentation on "Designing a Life of Simplicity and Ease".\n\n\n\nOur guest speaker\, Eileen Reed\, Productivity & Organizing Specialist\, and Owner of Simplify with Eileen\, will inspire and coach us on simplifying our lives so we can enjoy more happiness\, more freedom from stress and accomplish more in our lives by considering different ways to take control of our space and our life.\n\n\n\nOur Women In Business Networking series is exclusive to members/guests of the Wilmington/Tewksbury\, Reading/North Reading\, Stoneham\, Wakefield/Lynnfield and Melrose Chambers. Pre-registration is required.
X-ALT-DESC;FMTTYPE=text/html:Join us at our next quarterly Multi-Chamber WIB event and enjoy a relaxing evening of tasty appetizers\, complimentary wine\, networking and a presentation on &ldquo\;Designing a Life of Simplicity and Ease&rdquo\;.<br />\n<br />\nOur guest speaker\, Eileen Reed\, Productivity &amp\; Organizing Specialist\, and Owner of Simplify with Eileen\, will inspire and coach us on simplifying our lives so we can enjoy more happiness\, more freedom from stress and accomplish more in our lives by considering different ways to take control of our space and our life.<br />\n<br />\nOur Women In Business Networking series is exclusive to members/guests of the Wilmington/Tewksbury\, Reading/North Reading\, Stoneham\, Wakefield/Lynnfield and Melrose Chambers. Pre-registration is required.
LOCATION:Brightview Senior Living 21 Crescent Street Wakefield
UID:e.2938.5231
SEQUENCE:3
DTSTAMP:20260425T152440Z
URL:https://business.wilmingtontewksburychamber.org/events/details/women-in-business-networking-event-designing-a-life-of-simplicity-and-ease-5231
END:VEVENT

END:VCALENDAR
