BEGIN:VCALENDAR
VERSION:2.0
PRODID:-//ChamberMaster//Event Calendar 2.0//EN
METHOD:PUBLISH
X-PUBLISHED-TTL:P3D
REFRESH-INTERVAL:P3D
CALSCALE:GREGORIAN
BEGIN:VEVENT
DTSTART:20190907T120000Z
DTEND:20190907T190000Z
X-MICROSOFT-CDO-ALLDAYEVENT:FALSE
SUMMARY:Wilmington Wildcat Band & Wilmington Sons Of Italy FLEA MARKET
DESCRIPTION:
X-ALT-DESC;FMTTYPE=text/html:
LOCATION:Wilmington Wildcat Band & Wilmington Sons Of Italy FLEA MARKET SAT. SEPT. 7: 8am to 3pm Town Common Lot Rent a Space: $20.00 To reserve a spot or for more info\, contact John Romano: jromano45@gmail.com or (617) 750-9749
UID:e.2938.5509
SEQUENCE:3
DTSTAMP:20260424T215143Z
URL:https://business.wilmingtontewksburychamber.org/events/details/wilmington-wildcat-band-wilmington-sons-of-italy-flea-market-5509
END:VEVENT

END:VCALENDAR
