BEGIN:VCALENDAR
VERSION:2.0
PRODID:-//ChamberMaster//Event Calendar 2.0//EN
METHOD:PUBLISH
X-PUBLISHED-TTL:P3D
REFRESH-INTERVAL:P3D
CALSCALE:GREGORIAN
BEGIN:VEVENT
DTSTART:20190914T130000Z
DTEND:20190914T160000Z
X-MICROSOFT-CDO-ALLDAYEVENT:FALSE
SUMMARY:Wilmington Town Shredding Day
DESCRIPTION:The Wilmington Community Fund is hosting a Shredding Day on Saturday\, September 14\, 2019\, from 9am to noon\, in the Wilmington Town Common parking lot. The event is free of charge to residents.\n\nTwo shredding trucks will be available\, however the event is meant for residences. The Community Fund reserves the right to limit the amount of shredding due to wait time or truck space. Paper clips\, rubber bands and staples do not need to be removed. Please remove binder clips or other metal fasteners.\n\nThe Wilmington Community Fund\, which runs the Wilmington Food Pantry\, is encouraging participants to bring nonperishable food items or donations to the event. All donations will be given to the Food Pantry. Our motto is "People Helping People" and\, as always\, we are grateful for the partnership of the community to help fight hunger.
X-ALT-DESC;FMTTYPE=text/html:<span style="letter-spacing:.25pt\;"><span style="color:#3D3D3D\;"><span style="font-family:inherit\,serif\;"><a href="http://www.commfund.org/" target="_blank"><strong style="border-image-outset:0\;border-image-repeat:stretch\;border-image-slice:100%\;border-image-source:none\;border-image-width:1\;box-sizing:inherit\;font-style:inherit\;outline-style:none\;outline-width:0px\;"><span style="border:none windowtext 1.0pt\;padding:0in\;text-decoration:none\;text-underline:none\;"><span style="color:#CD0215\;"><span style="font-family:inherit\,serif\;">The Wilmington Community Fund</span></span></span></strong></a> is hosting a Shredding Day on Saturday\, September 14\, 2019\, from 9am to noon\, in the Wilmington Town Common parking lot. The event is free of charge to residents.</span></span></span><br />\n<span style="letter-spacing:.25pt\;"><span style="color:#3D3D3D\;"><span style="font-family:inherit\,serif\;">Two shredding trucks will be available\, however the event is meant for residences. The Community Fund reserves the right to limit the amount of shredding due to wait time or truck space. Paper clips\, rubber bands and staples do not need to be removed. Please remove binder clips or other metal fasteners.</span></span></span><br />\n<span style="letter-spacing:.25pt\;"><span style="color:#3D3D3D\;"><span style="font-family:inherit\,serif\;">The Wilmington Community Fund\, which runs the Wilmington Food Pantry\, is encouraging participants to bring nonperishable food items or donations to the event. All donations will be given to the Food Pantry. Our motto is &ldquo\;People Helping People&rdquo\; and\, as always\, we are grateful for the partnership of the community to help fight hunger.</span></span></span>
LOCATION:Wilmington Town Common Wilmington\, MA 01887
UID:e.2938.5515
SEQUENCE:3
DTSTAMP:20260424T200247Z
URL:https://business.wilmingtontewksburychamber.org/events/details/wilmington-town-shredding-day-5515
END:VEVENT

END:VCALENDAR
