BEGIN:VCALENDAR
VERSION:2.0
PRODID:-//ChamberMaster//Event Calendar 2.0//EN
METHOD:PUBLISH
X-PUBLISHED-TTL:P3D
REFRESH-INTERVAL:P3D
CALSCALE:GREGORIAN
BEGIN:VEVENT
DTSTART:20181229T230000Z
DTEND:20181230T020000Z
X-MICROSOFT-CDO-ALLDAYEVENT:FALSE
SUMMARY:Wilmington Sons of Italy Christmas Dinner and Entertainment
DESCRIPTION:Wilmington Sons of Italy Christmas Dinner and Entertainment by the Singing Trooper\, Dan Clark and his wife Mary Colarusso. Catered dinner of Surf and Turf with all the trimmings\, cheese and crackers\, chicken soup\, salad\, cheese ravioli\, baked stuffed haddock and roast beef of sirloin\, roasted potatoes\, green beens almondine\, rolls\, butter\, coffee\, vanilla ice cream and Italian cookies. $10 scratch ticket swap.
X-ALT-DESC;FMTTYPE=text/html:Wilmington Sons of Italy Christmas Dinner and Entertainment by the Singing Trooper\, Dan Clark and his wife Mary Colarusso. Catered dinner of Surf and Turf with all the trimmings\, cheese and crackers\, chicken soup\, salad\, cheese ravioli\, baked stuffed haddock and roast beef of sirloin\, roasted potatoes\, green beens almondine\, rolls\, butter\, coffee\, vanilla ice cream and Italian cookies. $10 scratch ticket swap.
LOCATION:Wilmington/Tewksbury Elks 777 South St Tewksbury\, MA
UID:e.2938.5245
SEQUENCE:3
DTSTAMP:20260425T120123Z
URL:https://business.wilmingtontewksburychamber.org/events/details/wilmington-sons-of-italy-christmas-dinner-and-entertainment-5245
END:VEVENT

END:VCALENDAR
