BEGIN:VCALENDAR
VERSION:2.0
PRODID:-//ChamberMaster//Event Calendar 2.0//EN
METHOD:PUBLISH
X-PUBLISHED-TTL:P3D
REFRESH-INTERVAL:P3D
CALSCALE:GREGORIAN
BEGIN:VEVENT
DTSTART:20190929T140000Z
DTEND:20190929T180000Z
X-MICROSOFT-CDO-ALLDAYEVENT:FALSE
SUMMARY:Wilmington's 15th Annual Road Race
DESCRIPTION:
X-ALT-DESC;FMTTYPE=text/html:
LOCATION:10 Waltham Street (WCTV)\, Wilmington
UID:e.2938.5518
SEQUENCE:3
DTSTAMP:20260424T200512Z
URL:https://business.wilmingtontewksburychamber.org/events/details/wilmington-s-15th-annual-road-race-5518
END:VEVENT

END:VCALENDAR
