BEGIN:VCALENDAR
VERSION:2.0
PRODID:-//ChamberMaster//Event Calendar 2.0//EN
METHOD:PUBLISH
X-PUBLISHED-TTL:P3D
REFRESH-INTERVAL:P3D
CALSCALE:GREGORIAN
BEGIN:VEVENT
DTSTART:20180923T140000Z
DTEND:20180923T180000Z
X-MICROSOFT-CDO-ALLDAYEVENT:FALSE
SUMMARY:Wilmington's 14th Annual Road Race
DESCRIPTION:
X-ALT-DESC;FMTTYPE=text/html:
LOCATION:10 Waltham Street (WCTV)\, Wilmington
UID:e.2938.3184
SEQUENCE:3
DTSTAMP:20260425T174536Z
URL:https://business.wilmingtontewksburychamber.org/events/details/wilmington-s-14th-annual-road-race-3184
END:VEVENT

END:VCALENDAR
