BEGIN:VCALENDAR
VERSION:2.0
PRODID:-//ChamberMaster//Event Calendar 2.0//EN
METHOD:PUBLISH
X-PUBLISHED-TTL:P3D
REFRESH-INTERVAL:P3D
CALSCALE:GREGORIAN
BEGIN:VEVENT
DTSTART:20190817T130000Z
DTEND:20190817T130000Z
X-MICROSOFT-CDO-ALLDAYEVENT:FALSE
SUMMARY:Wilmington Rotary's Annual Ice Bucket Challenge
DESCRIPTION:For the fifth straight year\, the Wilmington Rotary Club will be hosting an Ice Bucket Challenge at Rotary Park\, with all proceeds going to the Angel Fund.  The last four years\, the Club has raised $20\,000 total to donate to the Angel Fund to support research the cure ALS\, \n\n \n\n\nWe are hoping to make this year's event even bigger than last year's and would love your help to bring people together and to raise funds for research to find a cure for the terrible disease of A.L.S. (Lou Gehrig's Disease).  It will be taking place on Saturday\, August 17 at 9:00 a.m. at Rotary Park.\n\n \n\nPlease:\n\n\n	Send a donation of any amount to Wilmington Rotary Club at P.O. Box 503\, Wilmington\, MA 01887.\n	Contact people you know -- your child's coaches\, teachers\, tutors\, etc.\n	Spread the word\; the bigger the crowd the larger the impact.\n\n\nWilmington High School has committed many of the high school fall teams to attending and participating.  Come meet some of the local athletes!\n\n \n\nAll of the Donations will go to the Angel Fund for A.L.S. research. \n\n \n\nPlease call Mike Burns (508 574-7897) or email (mburns4447@aol.com) with any questions\, thoughts\, suggestions!!
X-ALT-DESC;FMTTYPE=text/html:<div style="box-sizing: border-box\; color: rgb(34\, 34\, 34)\; font-family: Raleway\, Arial\, sans-serif\; font-size: 15px\;">For the fifth straight year\, the Wilmington Rotary Club will be hosting&nbsp\;an Ice Bucket Challenge at Rotary Park\, with all proceeds going to the&nbsp\;<a href="https://theangelfund.org/" style="box-sizing: border-box\; background-color: transparent\; color: rgb(67\, 178\, 229)\; text-decoration-line: none\; cursor: pointer\;" target="_blank">Angel Fund</a>. &nbsp\;The last four years\, the Club has raised $20\,000 total to donate to the Angel Fund to support research the cure ALS\,&nbsp\;</div>\n\n<div style="box-sizing: border-box\; color: rgb(34\, 34\, 34)\; font-family: Raleway\, Arial\, sans-serif\; font-size: 15px\;">&nbsp\;</div>\n\n<div style="box-sizing: border-box\; color: rgb(34\, 34\, 34)\; font-family: Raleway\, Arial\, sans-serif\; font-size: 15px\;">\n<div style="box-sizing: border-box\;">We are hoping to make this year&rsquo\;s event even bigger than last year&rsquo\;s and would love your help to bring people together and to raise funds for research to find a cure for the terrible disease of A.L.S. (Lou Gehrig&rsquo\;s Disease). &nbsp\;It will be taking place on Saturday\, August 17&nbsp\;at 9:00 a.m. at Rotary Park.<br style="box-sizing: border-box\;" />\n&nbsp\;<br style="box-sizing: border-box\;" />\nPlease:</div>\n\n<ul style="box-sizing: border-box\; margin-top: 0px\; margin-bottom: 10.5px\; padding-left: 0px\; max-width: calc(100% - 40px)\; position: relative\; left: 40px\;">\n	<li style="box-sizing: border-box\;">Send a donation of any amount to Wilmington Rotary Club at P.O. Box 503\, Wilmington\, MA 01887.</li>\n	<li style="box-sizing: border-box\;">Contact people you know -- your child&rsquo\;s coaches\, teachers\, tutors\, etc.</li>\n	<li style="box-sizing: border-box\;">Spread the word\; the bigger the crowd the larger the impact.</li>\n</ul>\n\n<div style="box-sizing: border-box\;">Wilmington High School has committed many of the high school fall teams to attending and participating. &nbsp\;Come meet some of the local athletes!</div>\n\n<div style="box-sizing: border-box\;">&nbsp\;</div>\n\n<div style="box-sizing: border-box\;">All of the Donations will go to the Angel Fund for A.L.S. research.&nbsp\;<br style="box-sizing: border-box\;" />\n&nbsp\;<br style="box-sizing: border-box\;" />\nPlease call Mike Burns&nbsp\;(508 574-7897) or email (mburns4447@aol.com) with any questions\, thoughts\, suggestions!!</div>\n</div>\n
LOCATION:Rotary Park Wilmington
UID:e.2938.5510
SEQUENCE:3
DTSTAMP:20260424T233342Z
URL:https://business.wilmingtontewksburychamber.org/events/details/wilmington-rotary-s-annual-ice-bucket-challenge-5510
END:VEVENT

END:VCALENDAR
