BEGIN:VCALENDAR
VERSION:2.0
PRODID:-//ChamberMaster//Event Calendar 2.0//EN
METHOD:PUBLISH
X-PUBLISHED-TTL:P3D
REFRESH-INTERVAL:P3D
CALSCALE:GREGORIAN
BEGIN:VEVENT
DTSTART:20190614T220000Z
DTEND:20190615T030000Z
X-MICROSOFT-CDO-ALLDAYEVENT:FALSE
SUMMARY:Wilmington Rotary's 11th Annual Trivia Contest
DESCRIPTION:Think that you know the capital of Nebraska? Well\, on Friday\, June 14\, 2019\, you and three friends can show off your knowledge of things trivial! The Wilmington Rotary Club is hosting its 11th Annual Trivia Night on Friday\, June 14\, 2019 at the Wilmington Knights of Columbus Hall. Doors will open at 6pm. Comedian Steve Bjork will ask the first question at 7pm.\n\nWhat is Tom Brady's middle name? Other trivia experts think that they know! Do you? The cost for your team of four is $100. The winners will receive a handsome trophy along with priceless bragging rights for the year. The defending champions are from the Wilmington Police Department\, who have stated that despite being armed\, they will surrender the trophy but only if you can better them at trivia. There will be a cash bar.\n\nThe number of teams is limited\, so don't delay. For more information or enter your team\, call Wilmington's Trivia Master Harry Cunningham at 978-944-0155. The Rotary Club promises a night of challenging questions\, hopefully outstanding recall\, and most of all\, a terrific evening. Bring your munchies and brightest teammates!\n\nHow much money has the Wilmington Rotary Club given out in scholarships to Wilmington graduates? More than $650\,000! Proceeds from the Trivia Night are used to fund scholarships for this year's graduates. Again\, call 978-944-0155 to register. See you there!
X-ALT-DESC;FMTTYPE=text/html:<p class="x_MsoNormal" style="color: rgb(32\, 31\, 30)\; font-size: 11pt\; font-variant-numeric: normal\; font-variant-east-asian: normal\; margin: 0in 0in 0pt\;"><span lang="EN" style="border-bottom-color: currentColor\; border-bottom-style: none\; border-bottom-width: 0px\; border-image-outset: 0\; border-image-repeat: stretch\; border-image-slice: 100%\; border-image-source: none\; border-image-width: 1\; border-left-color: currentColor\; border-left-style: none\; border-left-width: 0px\; border-right-color: currentColor\; border-right-style: none\; border-right-width: 0px\; border-top-color: currentColor\; border-top-style: none\; border-top-width: 0px\; color: inherit\; font-family: &amp\;quot\;Times New Roman&amp\;quot\;\,serif\; font-size: 12pt\; font-size-adjust: none\; font-stretch: inherit\; font-style: inherit\; font-variant: inherit\; font-weight: inherit\; line-height: inherit\; margin-bottom: 0px\; margin-left: 0px\; margin-right: 0px\; margin-top: 0px\; padding-bottom: 0px\; padding-left: 0px\; padding-right: 0px\; padding-top: 0px\; vertical-align: baseline\;">Think that you know the capital of Nebraska? Well\, on Friday\, June 14\, 2019\, you and three friends can show off your knowledge of things trivial! The Wilmington Rotary Club is hosting its 11th Annual Trivia Night on Friday\, June 14\, 2019 at the Wilmington Knights of Columbus Hall. Doors will open at 6pm. Comedian Steve Bjork will ask the first question at 7pm.</span></p>\n\n<p class="x_MsoNormal" style="color: rgb(32\, 31\, 30)\; font-size: 11pt\; font-variant-numeric: normal\; font-variant-east-asian: normal\; margin: 0in 0in 0pt\;"><span lang="EN" style="border-bottom-color: currentColor\; border-bottom-style: none\; border-bottom-width: 0px\; border-image-outset: 0\; border-image-repeat: stretch\; border-image-slice: 100%\; border-image-source: none\; border-image-width: 1\; border-left-color: currentColor\; border-left-style: none\; border-left-width: 0px\; border-right-color: currentColor\; border-right-style: none\; border-right-width: 0px\; border-top-color: currentColor\; border-top-style: none\; border-top-width: 0px\; color: inherit\; font-family: &amp\;quot\;Times New Roman&amp\;quot\;\,serif\; font-size: 12pt\; font-size-adjust: none\; font-stretch: inherit\; font-style: inherit\; font-variant: inherit\; font-weight: inherit\; line-height: inherit\; margin-bottom: 0px\; margin-left: 0px\; margin-right: 0px\; margin-top: 0px\; padding-bottom: 0px\; padding-left: 0px\; padding-right: 0px\; padding-top: 0px\; vertical-align: baseline\;">What is Tom Brady&rsquo\;s middle name? Other trivia experts think that they know! Do you? The cost for your team of four is $100. The winners will receive a handsome trophy along with priceless bragging rights for the year. The defending champions are from the Wilmington Police Department\, who have stated that despite being armed\, they will surrender the trophy but only if you can better them at trivia. There will be a cash bar.</span></p>\n\n<p class="x_MsoNormal" style="color: rgb(32\, 31\, 30)\; font-size: 11pt\; font-variant-numeric: normal\; font-variant-east-asian: normal\; margin: 0in 0in 0pt\;"><span lang="EN" style="border-bottom-color: currentColor\; border-bottom-style: none\; border-bottom-width: 0px\; border-image-outset: 0\; border-image-repeat: stretch\; border-image-slice: 100%\; border-image-source: none\; border-image-width: 1\; border-left-color: currentColor\; border-left-style: none\; border-left-width: 0px\; border-right-color: currentColor\; border-right-style: none\; border-right-width: 0px\; border-top-color: currentColor\; border-top-style: none\; border-top-width: 0px\; color: inherit\; font-family: &amp\;quot\;Times New Roman&amp\;quot\;\,serif\; font-size: 12pt\; font-size-adjust: none\; font-stretch: inherit\; font-style: inherit\; font-variant: inherit\; font-weight: inherit\; line-height: inherit\; margin-bottom: 0px\; margin-left: 0px\; margin-right: 0px\; margin-top: 0px\; padding-bottom: 0px\; padding-left: 0px\; padding-right: 0px\; padding-top: 0px\; vertical-align: baseline\;">The number of teams is limited\, so don&rsquo\;t delay. For more information or enter your team\, call Wilmington&rsquo\;s Trivia Master Harry Cunningham at 978-944-0155. The Rotary Club promises a night of challenging questions\, hopefully outstanding recall\, and most of all\, a terrific evening. Bring your munchies and brightest teammates!</span></p>\n\n<p class="x_MsoNormal" style="color: rgb(32\, 31\, 30)\; font-size: 11pt\; font-variant-numeric: normal\; font-variant-east-asian: normal\; margin: 0in 0in 0pt\;"><span lang="EN" style="border-bottom-color: currentColor\; border-bottom-style: none\; border-bottom-width: 0px\; border-image-outset: 0\; border-image-repeat: stretch\; border-image-slice: 100%\; border-image-source: none\; border-image-width: 1\; border-left-color: currentColor\; border-left-style: none\; border-left-width: 0px\; border-right-color: currentColor\; border-right-style: none\; border-right-width: 0px\; border-top-color: currentColor\; border-top-style: none\; border-top-width: 0px\; color: inherit\; font-family: &amp\;quot\;Times New Roman&amp\;quot\;\,serif\; font-size: 12pt\; font-size-adjust: none\; font-stretch: inherit\; font-style: inherit\; font-variant: inherit\; font-weight: inherit\; line-height: inherit\; margin-bottom: 0px\; margin-left: 0px\; margin-right: 0px\; margin-top: 0px\; padding-bottom: 0px\; padding-left: 0px\; padding-right: 0px\; padding-top: 0px\; vertical-align: baseline\;">How much money has the Wilmington Rotary Club given out in scholarships to Wilmington graduates? More than $650\,000! Proceeds from the Trivia Night are used to fund scholarships for this year&rsquo\;s graduates. Again\, call 978-944-0155 to register. See you there!</span></p>\n
LOCATION:Wilmington Knights of Columbus 112 Middlesex Avenue\, Wilmington
UID:e.2938.5300
SEQUENCE:3
DTSTAMP:20260425T030241Z
URL:https://business.wilmingtontewksburychamber.org/events/details/wilmington-rotary-s-11th-annual-trivia-contest-5300
END:VEVENT

END:VCALENDAR
