BEGIN:VCALENDAR
VERSION:2.0
PRODID:-//ChamberMaster//Event Calendar 2.0//EN
METHOD:PUBLISH
X-PUBLISHED-TTL:P3D
REFRESH-INTERVAL:P3D
CALSCALE:GREGORIAN
BEGIN:VEVENT
DTSTART:20180608T230000Z
DTEND:20180609T030000Z
X-MICROSOFT-CDO-ALLDAYEVENT:FALSE
SUMMARY:Wilmington Rotary's 10th Annual Trivia Contest
DESCRIPTION:Wilmington Rotary's 10th Annual Trivia Contest\n\n\n\nThink that you know the Capital of Nebraska or who won the 2016 Nobel Prize for Literature?  If you do\, you should get three of your smartest friends and sign up for the Wilmington Rotary Clubs 10th Annual Trivia Contest.\n\n\n\nThis year's competition will be held on Friday\, June 8th at the Wilmington Knights of Columbus Hall.  Again this year\, Steve Bjork will be asking the challenging questions\, covering a wide range of categories.  The first question will be at 7:00 PM.\n\n\n\nThe cost is $100 per teams of four.  Bring your own munchies and snacks and there will be a cash bar.  Come prepared for a terrific evening full of surprises!  You never know what to expect as in the past anything is possible\, even a marriage proposal!\n\n\n\nThis year's winning will receive an almost priceless trophy plus bragging rights for the year.  Previous years Champions include the Wilmington Knights of Columbus\, the Mandates\, the Burns Bunch and the Wilmington Police's Men in Blue.\n\n\n\nIncidentally\, all monies raised that evening will go directly towards the Wilmington Rotary Clubs Scholarship for high school graduates. So plan on joining with us on June 8th for a challenging\, fun filled evening.\n\n\n\nTickets can be ordered by calling either Trivia Master Harry Cunningham at 978-944-0155 or John Doherty at 978-658-3807.
X-ALT-DESC;FMTTYPE=text/html:<span style="font-size:18.0pt\;">Wilmington Rotary&rsquo\;s 10<sup>th</sup> Annual Trivia Contest</span><br />\n<br />\n<span style="font-size:14.0pt\;">Think that you know the Capital of Nebraska or who won the 2016 Nobel Prize for Literature?&nbsp\; If you do\, you should get three of your smartest friends and sign up for the Wilmington Rotary Clubs 10<sup>th</sup> Annual Trivia Contest.</span><br />\n<br />\n<span style="font-size:14.0pt\;">This year&rsquo\;s competition will be held on Friday\, June 8<sup>th</sup> at the Wilmington Knights of Columbus Hall.&nbsp\; Again this year\, Steve Bjork will be asking the challenging questions\, covering a wide range of categories.&nbsp\; The first question will be at 7:00 PM.</span><br />\n<br />\n<span style="font-size:14.0pt\;">The cost is $100 per teams of four.&nbsp\; Bring your own munchies and snacks and there will be a cash bar.&nbsp\; Come prepared for a terrific evening full of surprises!&nbsp\; You never know what to expect as in the past anything is possible\, even a marriage proposal!</span><br />\n<br />\n<span style="font-size:14.0pt\;">This year&rsquo\;s winning will receive an almost priceless trophy plus bragging rights for the year.&nbsp\; Previous years Champions include the Wilmington Knights of Columbus\, the Mandates\, the Burns Bunch and the Wilmington Police&rsquo\;s Men in Blue.</span><br />\n<br />\n<span style="font-size:14.0pt\;">Incidentally\, all monies raised that evening will go directly towards the Wilmington Rotary Clubs Scholarship for high school graduates. So plan on joining with us on June 8<sup>th</sup> for a challenging\, fun filled evening.</span><br />\n<br />\n<span style="font-size:14.0pt\;">Tickets can be ordered by calling either Trivia Master Harry Cunningham at 978-944-0155 or John Doherty at 978-658-3807.</span><br />\n&nbsp\;
LOCATION:Wilmington Knights of Columbus Hall 112 Middlesex Ave. Wilmington
UID:e.2938.3180
SEQUENCE:3
DTSTAMP:20260425T225653Z
URL:https://business.wilmingtontewksburychamber.org/events/details/wilmington-rotary-s-10th-annual-trivia-contest-3180
END:VEVENT

END:VCALENDAR
