BEGIN:VCALENDAR
VERSION:2.0
PRODID:-//ChamberMaster//Event Calendar 2.0//EN
METHOD:PUBLISH
X-PUBLISHED-TTL:P3D
REFRESH-INTERVAL:P3D
CALSCALE:GREGORIAN
BEGIN:VEVENT
DTSTART:20170629T210000Z
DTEND:20170630T010000Z
X-MICROSOFT-CDO-ALLDAYEVENT:FALSE
SUMMARY:Wilmington Fun on the Fourth
DESCRIPTION:Fun on the Fourth Dinner\, Entertainment and Events
X-ALT-DESC;FMTTYPE=text/html:<a href="http://funonthefourth.com/schedules-and-bus-routes/">Fun on the Fourth</a> Dinner\, Entertainment and Events
LOCATION:Wilmington Town Common Wilmington\, MA 01887
UID:e.2938.42
SEQUENCE:3
DTSTAMP:20260425T123917Z
URL:https://business.wilmingtontewksburychamber.org/events/details/wilmington-fun-on-the-fourth-42
END:VEVENT

END:VCALENDAR
