BEGIN:VCALENDAR
VERSION:2.0
PRODID:-//ChamberMaster//Event Calendar 2.0//EN
METHOD:PUBLISH
X-PUBLISHED-TTL:P3D
REFRESH-INTERVAL:P3D
CALSCALE:GREGORIAN
BEGIN:VEVENT
DTSTART:20190908T140000Z
DTEND:20190908T170000Z
X-MICROSOFT-CDO-ALLDAYEVENT:FALSE
SUMMARY:Wilmington Farmer's Market
DESCRIPTION:Check out their website for a list of weekly vendors\, and don't miss their WFM Family Day Cornhole Tournament on  September 29 for a family fun day of cornhole!\n\n \n\n24 teams\, double elimination brackets\n\nCash prizes for top 3 teams
X-ALT-DESC;FMTTYPE=text/html:<div style="color: rgb(0\, 0\, 144)\; font-family: Arial\; font-size: 16px\; font-variant-numeric: normal\; font-variant-east-asian: normal\; font-weight: 700\;"><span style="color: rgb(22\, 35\, 61)\; font-family: Arial\, Verdana\, Helvetica\, sans-serif\; font-size: 14px\; font-weight: normal\;">Check out their </span><a href="http://www.wilmingtonfarmersmarket.com/" style="color: rgb(22\, 35\, 61)\; font-family: Arial\, Verdana\, Helvetica\, sans-serif\; font-size: 14px\; font-weight: normal\; text-decoration-line: none\;" target="_blank">website</a><span style="color: rgb(22\, 35\, 61)\; font-family: Arial\, Verdana\, Helvetica\, sans-serif\; font-size: 14px\; font-weight: normal\;"> for a list of weekly vendors\, and don&#39\;t miss their </span><span style="color: rgb(22\, 35\, 61)\; font-family: Arial\,Verdana\,Helvetica\,sans-serif\; font-size: 14px\; font-weight: normal\;">WFM Family Day Cornhole Tournament on &#8203\;September 29 for a family fun day of cornhole!</span></div>\n\n<div style="color: rgb(0\, 0\, 144)\; font-family: Arial\; font-size: 16px\; font-variant-numeric: normal\; font-variant-east-asian: normal\; font-weight: 700\;">&nbsp\;</div>\n\n<div style="color: rgb(0\, 0\, 144)\; font-family: Arial\; font-size: 16px\; font-variant-numeric: normal\; font-variant-east-asian: normal\; font-weight: 700\;"><span style="color: rgb(22\, 35\, 61)\; font-family: Arial\,Verdana\,Helvetica\,sans-serif\; font-size: 14px\; font-weight: normal\;">24 teams\, double elimination brackets</span></div>\n\n<div style="color: rgb(0\, 0\, 144)\; font-family: Arial\; font-size: 16px\; font-variant-numeric: normal\; font-variant-east-asian: normal\; font-weight: 700\;"><span style="color: rgb(22\, 35\, 61)\; font-family: Arial\,Verdana\,Helvetica\,sans-serif\; font-size: 14px\; font-weight: normal\;">Cash prizes for top 3 teams</span></div>\n
LOCATION:Swain Green\, near 4th of July Building Wilmington
UID:e.2938.5522
SEQUENCE:3
DTSTAMP:20260424T200758Z
URL:https://business.wilmingtontewksburychamber.org/events/details/wilmington-farmer-s-market-09-08-2019-5522
END:VEVENT

END:VCALENDAR
