BEGIN:VCALENDAR
VERSION:2.0
PRODID:-//ChamberMaster//Event Calendar 2.0//EN
METHOD:PUBLISH
X-PUBLISHED-TTL:P3D
REFRESH-INTERVAL:P3D
CALSCALE:GREGORIAN
BEGIN:VEVENT
DTSTART:20191029T223000Z
DTEND:20191030T000000Z
X-MICROSOFT-CDO-ALLDAYEVENT:FALSE
SUMMARY:Wilmington Community Round Table
DESCRIPTION:Representatives from 20+ Wilmington-based non-profit organizations gather to (1) briefly discuss their group's purpose\, (2) highlight some of the programs and services offered by their group\; and (3) preview any upcoming big events or fundraisers their group is holding. The idea is to share information so that local non-profits can better serve residents.\n\n\n\n\n\n\n\nIf you or someone from your organization would like to attend\, please RSVP to Tina Stewart (tstewart@wilmlibrary.org\, 978-658-2967). Any questions can be directed to her as well.
X-ALT-DESC;FMTTYPE=text/html:<span style="font-variant-numeric: normal\; font-variant-east-asian: normal\; background-color: transparent\; color: rgb(0\, 0\, 0)\; font-family: Candara\, sans-serif\, serif\, EmojiFont\; font-size: 16px\;">Representatives from 20+ Wilmington-based non-profit organizations gather to (1) briefly discuss their group&rsquo\;s purpose\, (2) highlight some of the programs and services offered by their group\; and (3) preview any upcoming big events or fundraisers their group is holding. The idea is to share information so that local non-profits can better serve residents.<br />\n<br />\n<br />\n<br />\nIf you or someone from your organization would like to attend\, please RSVP to Tina Stewart (tstewart@wilmlibrary.org\, 978-658-2967)</span><span style="font-family: Roboto\, sans-serif\; font-variant-numeric: normal\; font-variant-east-asian: normal\; background-color: transparent\; color: rgb(0\, 0\, 0)\; font-size: 16px\; font-weight: 700\;">.</span><span style="font-variant-numeric: normal\; font-variant-east-asian: normal\; background-color: transparent\; color: rgb(0\, 0\, 0)\; font-family: Candara\, sans-serif\, serif\, EmojiFont\; font-size: 16px\;">&nbsp\;Any questions can be directed to her as well.</span>
LOCATION:Wilmington Memorial Library 175 Middlesex Avenue Wilmington\, MA 01887
UID:e.2938.5514
SEQUENCE:3
DTSTAMP:20260424T200104Z
URL:https://business.wilmingtontewksburychamber.org/events/details/wilmington-community-round-table-5514
END:VEVENT

END:VCALENDAR
