BEGIN:VCALENDAR
VERSION:2.0
PRODID:-//ChamberMaster//Event Calendar 2.0//EN
METHOD:PUBLISH
X-PUBLISHED-TTL:P3D
REFRESH-INTERVAL:P3D
CALSCALE:GREGORIAN
BEGIN:VEVENT
DTSTART;VALUE=DATE:20180428
DTEND;VALUE=DATE:20180429
TRANSP:TRANSPARENT
X-MICROSOFT-CDO-ALLDAYEVENT:TRUE
SUMMARY:Wilmington Annual Town Elections
DESCRIPTION:Voting is a right\, a privilege and a responsibility. Get out and vote!\n\nSaturday\, April 28th\, 2018\n\nPolls open at 8:00 am and close at 8:00 pm.\n\nFor more information\, visit Wilmington Annual Town Elections.
X-ALT-DESC;FMTTYPE=text/html:Voting is a right\, a privilege and a responsibility. Get out and vote!<br />\nSaturday\, April 28th\, 2018<br />\nPolls open at 8:00 am and close at 8:00 pm.<br />\nFor more information\, visit <a href="https://www.wilmingtonma.gov/town-clerk/pages/voting-elections" target="_blank">Wilmington&nbsp\;Annual Town Elections.</a><br />\n<br />\n&nbsp\;
LOCATION:
UID:e.2938.2162
SEQUENCE:3
DTSTAMP:20260426T023757Z
URL:https://business.wilmingtontewksburychamber.org/events/details/wilmington-annual-town-elections-2162
END:VEVENT

END:VCALENDAR
