BEGIN:VCALENDAR
VERSION:2.0
PRODID:-//ChamberMaster//Event Calendar 2.0//EN
METHOD:PUBLISH
X-PUBLISHED-TTL:P3D
REFRESH-INTERVAL:P3D
CALSCALE:GREGORIAN
BEGIN:VEVENT
DTSTART:20191028T220000Z
DTEND:20191028T233000Z
X-MICROSOFT-CDO-ALLDAYEVENT:FALSE
SUMMARY:Welcome to Tewksbury Reception
DESCRIPTION:Have you moved to town in the past five years? Are you interested in learning more about what Tewksbury has to offer? You are invited to the 3rd Annual "Welcome To Tewksbury" Reception\, sponsored by the Library & the Wilmington-Tewksbury Chamber of Commerce.\n\nNew residents are encouraged to drop in anytime during the two hours to:\n\n\n	Meet representative from town government\, schools\, businesses\, and community organizations\n	Learn about their services\, programs\, and volunteer opportunities\n	Pick up a free Welcome Bag filled with information\, coupons\, & gift items from Chamber businesses\n	Enjoy conversation & light refreshments with other residents who are new to Tewksbury\n\n\n \n\nWhile the night is geared towards new residents\, ALL residents are welcome. No registration required.
X-ALT-DESC;FMTTYPE=text/html:<p style="background-color: transparent\; box-sizing: border-box\; color: rgb(0\, 0\, 0)\; font-family: georgia\; font-size: 16px\; font-variant-numeric: normal\; font-variant-east-asian: normal\; line-height: 24px\; margin: 0px 0px 16px\; padding: 0px\;">Have you moved to town in the past five years? Are you interested in learning more about what Tewksbury has to offer? You are invited to the 3rd&nbsp\;Annual &quot\;Welcome To Tewksbury&quot\; Reception\, sponsored by the Library &amp\; the Wilmington-Tewksbury Chamber of Commerce.</p>\n\n<p style="background-color: transparent\; box-sizing: border-box\; color: rgb(0\, 0\, 0)\; font-family: georgia\; font-size: 16px\; font-variant-numeric: normal\; font-variant-east-asian: normal\; line-height: 24px\; margin: 0px 0px 16px\; padding: 0px\;">New residents are encouraged to drop in anytime during the two hours to:</p>\n\n<ul style="background-color: transparent\; box-sizing: border-box\; color: rgb(0\, 0\, 0)\; font-family: georgia\; font-size: 16px\; font-variant-numeric: normal\; font-variant-east-asian: normal\; margin: 0px\; padding-left: 0px\; padding-right: 0px\;">\n	<li style="box-sizing: border-box\; margin-bottom: 0px\; margin-left: 0px\; margin-right: 0px\; margin-top: 0px\; padding-bottom: 0px\; padding-left: 0px\; padding-right: 0px\; padding-top: 0px\;">Meet representative from town government\, schools\, businesses\, and community organizations</li>\n	<li style="box-sizing: border-box\; margin-bottom: 0px\; margin-left: 0px\; margin-right: 0px\; margin-top: 0px\; padding-bottom: 0px\; padding-left: 0px\; padding-right: 0px\; padding-top: 0px\;">Learn about their services\, programs\, and volunteer opportunities</li>\n	<li style="box-sizing: border-box\; margin-bottom: 0px\; margin-left: 0px\; margin-right: 0px\; margin-top: 0px\; padding-bottom: 0px\; padding-left: 0px\; padding-right: 0px\; padding-top: 0px\;">Pick up a free Welcome Bag filled with information\, coupons\, &amp\; gift items from Chamber businesses</li>\n	<li style="box-sizing: border-box\; margin-bottom: 0px\; margin-left: 0px\; margin-right: 0px\; margin-top: 0px\; padding-bottom: 0px\; padding-left: 0px\; padding-right: 0px\; padding-top: 0px\;">Enjoy conversation &amp\; light refreshments with other residents who are new to Tewksbury</li>\n</ul>\n\n<p style="background-color: transparent\; box-sizing: border-box\; color: rgb(0\, 0\, 0)\; font-family: georgia\; font-size: 16px\; font-variant-numeric: normal\; font-variant-east-asian: normal\; line-height: 24px\; margin: 0px 0px 16px\; padding: 0px\;">&nbsp\;</p>\n\n<p style="background-color: transparent\; box-sizing: border-box\; color: rgb(0\, 0\, 0)\; font-family: georgia\; font-size: 16px\; font-variant-numeric: normal\; font-variant-east-asian: normal\; line-height: 24px\; margin: 0px 0px 16px\; padding: 0px\;">While the night is geared towards new residents\, ALL residents are welcome. No registration required.&nbsp\;</p>\n
LOCATION:Tewksbury Public Library 300 Chandler Street Tewksbury\, MA 01876
UID:e.2938.5536
SEQUENCE:3
DTSTAMP:20260424T200237Z
URL:https://business.wilmingtontewksburychamber.org/events/details/welcome-to-tewksbury-reception-5536
END:VEVENT

END:VCALENDAR
