BEGIN:VCALENDAR
VERSION:2.0
PRODID:-//ChamberMaster//Event Calendar 2.0//EN
METHOD:PUBLISH
X-PUBLISHED-TTL:P3D
REFRESH-INTERVAL:P3D
CALSCALE:GREGORIAN
BEGIN:VEVENT
DTSTART;VALUE=DATE:20181201
DTEND;VALUE=DATE:20181203
TRANSP:TRANSPARENT
X-MICROSOFT-CDO-ALLDAYEVENT:TRUE
SUMMARY:We're One Wilmington (WOW) Festival of Trees
DESCRIPTION:We're One Wilmington (WOW) invites you to join us at the 8th Annual Festival of Trees! This free family-friendly event will feature a raffle of spectacular holiday trees\, wreaths and baskets. There will also be baked goods\, pizza\, popcorn and refreshments for sale\, as well as musical performances and special visits by Mrs. Claus.\n\n\n\nRibbons will be awarded for donations in the following categories: Best Use of Theme\, Best Mini/Tabletop Tree\, Best Alternative (non-tree) Tree\, Most Creative/Unique\, Best in Show and Fan Favorite.\n\n\n\nWOW would greatly appreciate your tax-deductible donation to help make our event a success.\n\n\n\nMany ways you or your organization can help:\n\n\n\nDonate a theme decorated artificial tree   all donors will be recognized\n\nDonate a basket of goods or a wreath to advertise your organization\n\nDonate cases of water\, juice\, soda or items for the bake sale\n\nWays you or your organization benefits:\n\n\n\nTax deduction\n\nHelping a local charity and families in need\n\nAdvertising for your business\n\nProceeds from this event will be used to fund the WOW's many charitable initiatives throughout the year\, including our annual holiday gift program.\n\n\n\nRegister your donation using our online form or email Becky McGrath.
X-ALT-DESC;FMTTYPE=text/html:We&rsquo\;re One Wilmington (WOW) invites you to join us at the 8th Annual Festival of Trees! This free family-friendly event will feature a raffle of spectacular holiday trees\, wreaths and baskets. There will also be baked goods\, pizza\, popcorn and refreshments for sale\, as well as musical performances and special visits by Mrs. Claus.<br />\n<br />\nRibbons will be awarded for donations in the following categories: Best Use of Theme\, Best Mini/Tabletop Tree\, Best Alternative (non-tree) Tree\, Most Creative/Unique\, Best in Show and Fan Favorite.<br />\n<br />\nWOW would greatly appreciate your tax-deductible donation to help make our event a success.<br />\n<br />\nMany ways you or your organization can help:<br />\n<br />\nDonate a theme decorated artificial tree &ndash\; all donors will be recognized<br />\nDonate a basket of goods or a wreath to advertise your organization<br />\nDonate cases of water\, juice\, soda or items for the bake sale<br />\nWays you or your organization benefits:<br />\n<br />\nTax deduction<br />\nHelping a local charity and families in need<br />\nAdvertising for your business<br />\nProceeds from this event will be used to fund the WOW&rsquo\;s many charitable initiatives throughout the year\, including our annual holiday gift program.<br />\n<br />\nRegister your donation using our <a href="https://docs.google.com/forms/d/1tMYRnHYY2lcqHy3BWu8h1s_NgONvbf7K5a8MTinlv4Y/viewform?edit_requested=true" target="_blank">online form</a> or email <a href="mailto:rebeccamcgrath@rebeccamcgrath.com">Becky McGrath</a>.
LOCATION:Villanova Hall 126 Middlesex Ave. Wilmington\, MA 01887
UID:e.2938.5241
SEQUENCE:3
DTSTAMP:20260425T115910Z
URL:https://business.wilmingtontewksburychamber.org/events/details/we-re-one-wilmington-wow-festival-of-trees-5241
END:VEVENT

END:VCALENDAR
