BEGIN:VCALENDAR
VERSION:2.0
PRODID:-//ChamberMaster//Event Calendar 2.0//EN
METHOD:PUBLISH
X-PUBLISHED-TTL:P3D
REFRESH-INTERVAL:P3D
CALSCALE:GREGORIAN
BEGIN:VEVENT
DTSTART:20190908T150000Z
DTEND:20190908T180000Z
X-MICROSOFT-CDO-ALLDAYEVENT:FALSE
SUMMARY:WCTV Annual Family Fun Day
DESCRIPTION:WCTV Annual Family Fun Day\n\nSeptember 8\, 2019 @ 11:00 am - 2:00 pm\n\nYentile Farm Recreational Facility\, 9 Cross St\, Wilmington\, MA 01887\, USA\n\nJoin us for WCTV's Annual Family Fun day\, Sunday September 8 from 11AM to 2PM. As in past years\, we'll be holding the event at Yentile Farm Recreational Facility. We will have music\, entertainment and demonstrations from local businesses as well as a Face Painter\, Balloon creator and much more! This event is free and open to the public. Come join us! For more information contact: lisa@wctv.org\n\n(there is no rain date planned for this event)
X-ALT-DESC;FMTTYPE=text/html:<strong><span style="border:none windowtext 1.0pt\;padding:0in\;"><span style="color:#0C0C0C\;"><span style="font-family:inherit\,serif\;"><span style="font-size:12.0pt\;">WCTV Annual Family Fun Day</span></span></span></span></strong><br />\n<span style="border:none windowtext 1.0pt\;padding:0in\;"><span style="color:#0C0C0C\;"><span style="font-family:inherit\,serif\;"><span style="font-size:12.0pt\;">September 8\, 2019</span></span></span></span><span style="color:#0C0C0C\;"><span style="font-family:inherit\,serif\;"><span style="font-size:12.0pt\;">&nbsp\;@&nbsp\;<span style="border:none windowtext 1.0pt\;padding:0in\;">11:00 am</span> - <span style="border:none windowtext 1.0pt\;padding:0in\;">2:00 pm</span><br />\n<span style="border:none windowtext 1.0pt\;padding:0in\;">Yentile Farm Recreational Facility\, 9 Cross St\, Wilmington\, MA 01887\, USA</span></span></span></span><br />\n<span style="color:#0C0C0C\;"><span style="font-family:inherit\,serif\;"><span style="font-size:12.0pt\;">Join us for WCTV&#39\;s Annual Family Fun day\, Sunday September 8 from 11AM to 2PM. As in past years\, we&#39\;ll be holding the event at Yentile Farm Recreational Facility. We will have music\, entertainment and demonstrations from local businesses as well as a Face Painter\, Balloon creator and much more! This event is free and open to the public. Come join us! For more information contact: lisa@wctv.org</span></span></span><br />\n<span style="color:#0C0C0C\;"><span style="font-family:inherit\,serif\;"><span style="font-size:12.0pt\;">(there is no rain date planned for this event)</span></span></span>
LOCATION:Yentile Farm Recreational Facility 9 Cross Street Wilmington\, MA 01887
UID:e.2938.5517
SEQUENCE:3
DTSTAMP:20260424T200623Z
URL:https://business.wilmingtontewksburychamber.org/events/details/wctv-annual-family-fun-day-5517
END:VEVENT

END:VCALENDAR
