BEGIN:VCALENDAR
VERSION:2.0
PRODID:-//ChamberMaster//Event Calendar 2.0//EN
METHOD:PUBLISH
X-PUBLISHED-TTL:P3D
REFRESH-INTERVAL:P3D
CALSCALE:GREGORIAN
BEGIN:VEVENT
DTSTART:20180327T220000Z
DTEND:20180328T000000Z
X-MICROSOFT-CDO-ALLDAYEVENT:FALSE
SUMMARY:Visit the US National Parks
DESCRIPTION:Experience the grandeur of the American West as you explore five fantastic national parks on this exciting journey. Experience Yellowstone National Park\, a breakfast cruise on Lake Powell. Marvel at the magnitude and color of Zion's cliffs. Enjoy stays in Salt Lake City and Jackson Hole. Drive through the incredible Bighorn Mountains and the great Sioux Nations Territory before seeing Mt. Rushmore and Crazy Horse Monument.
X-ALT-DESC;FMTTYPE=text/html:Experience the grandeur of the American West as you explore five fantastic national parks on this exciting journey. Experience Yellowstone National Park\, a breakfast cruise on Lake Powell. Marvel at the magnitude and color of Zion&rsquo\;s cliffs. Enjoy stays in Salt Lake City and Jackson Hole. Drive through the incredible Bighorn Mountains and the great Sioux Nations Territory before seeing Mt. Rushmore and Crazy Horse Monument.
LOCATION:Firewater Tavern at Wamesit Lanes 434 Main Street Tewksbury\, MA 01876
UID:e.2938.1161
SEQUENCE:3
DTSTAMP:20260426T043436Z
URL:https://business.wilmingtontewksburychamber.org/events/details/visit-the-us-national-parks-1161
END:VEVENT

END:VCALENDAR
