BEGIN:VCALENDAR
VERSION:2.0
PRODID:-//ChamberMaster//Event Calendar 2.0//EN
METHOD:PUBLISH
X-PUBLISHED-TTL:P3D
REFRESH-INTERVAL:P3D
CALSCALE:GREGORIAN
BEGIN:VEVENT
DTSTART:20181117T140000Z
DTEND:20181117T160000Z
X-MICROSOFT-CDO-ALLDAYEVENT:FALSE
SUMMARY:Veteran's Pie Sale Fundraiser @ Bayberry at Emerald Court
DESCRIPTION:Support Our Local Veterans and get your holiday pies! We will be selling a variety of pies with ALL proceeds going to support Disabled Veterans of Tewksbury\n\n\n\n$5 pies: apple\, chocolate cream\, blueberry & pumpkin\n\n$10 pies: strawberry rhubarb\, pecan & mile high country apple\n\n\n\nFor questions or more info call: 978-640-0194
X-ALT-DESC;FMTTYPE=text/html:Support Our Local Veterans and get your holiday pies! We will be selling a variety of pies with ALL proceeds going to support Disabled Veterans of Tewksbury<br />\n<br />\n$5 pies: apple\, chocolate cream\, blueberry &amp\; pumpkin<br />\n$10 pies: strawberry rhubarb\, pecan &amp\; mile high country apple<br />\n<br />\nFor questions or more info call: 978-640-0194
LOCATION:Bayberry at Emerald Court 2000 Emerald Court Tewksbury\, MA 01876
UID:e.2938.5243
SEQUENCE:3
DTSTAMP:20260425T135057Z
URL:https://business.wilmingtontewksburychamber.org/events/details/veteran-s-pie-sale-fundraiser-bayberry-at-emerald-court-5243
END:VEVENT

END:VCALENDAR
