BEGIN:VCALENDAR
VERSION:2.0
PRODID:-//ChamberMaster//Event Calendar 2.0//EN
METHOD:PUBLISH
X-PUBLISHED-TTL:P3D
REFRESH-INTERVAL:P3D
CALSCALE:GREGORIAN
BEGIN:VEVENT
DTSTART:20190621T130000Z
DTEND:20190621T143000Z
X-MICROSOFT-CDO-ALLDAYEVENT:FALSE
SUMMARY:"Understanding the Community's Health Needs" Community Forum
DESCRIPTION:Please join us and be a part of the conversation as we share the preliminary findings from the Winchester Hospital 2019 Community Health Needs Assessment. Your input will help us develop our implementation plan to address the most pressing health needs in the community\, and will guide our decisions on investments in the community for the next three years.\n\nFriday\, June 21st\n\n9:00 - 10:30 a.m.\n\nWinchester Hospital Center for Cancer Care\n\n620 Washington Street\, Winchester\, MA\n\nRSVP is requested.\n\nTo RSVP call Marylou Hardy at (781) 744-3131 or email Marylou.hardy@lahey.org
X-ALT-DESC;FMTTYPE=text/html:<p style="color: rgb(50\, 49\, 48)\; font-family: Calibri\, sans-serif\; font-size: 11pt\; font-variant-numeric: normal\; font-variant-east-asian: normal\; margin: 0px 0px 0px 0.7pt\;"><span style="border-bottom-color: currentColor\; border-bottom-style: none\; border-bottom-width: 0px\; border-image-outset: 0\; border-image-repeat: stretch\; border-image-slice: 100%\; border-image-source: none\; border-image-width: 1\; border-left-color: currentColor\; border-left-style: none\; border-left-width: 0px\; border-right-color: currentColor\; border-right-style: none\; border-right-width: 0px\; border-top-color: currentColor\; border-top-style: none\; border-top-width: 0px\; color: rgb(84\, 88\, 97)\; font-family: Arial\,sans-serif\; font-size: inherit\; font-size-adjust: none\; font-stretch: inherit\; font-style: inherit\; font-variant: inherit\; font-weight: inherit\; line-height: inherit\; margin-bottom: 0px\; margin-left: 0px\; margin-right: 0px\; margin-top: 0px\; padding-bottom: 0px\; padding-left: 0px\; padding-right: 0px\; padding-top: 0px\; vertical-align: baseline\;">Please join us and be a part of the conversation as we share the preliminary findings from the Winchester Hospital 2019 Community Health Needs Assessment. Your input will help us develop our implementation plan to address the most pressing health needs in the community\, and will guide our decisions on investments in the community for the next three years.</span></p>\n\n<p style="color: rgb(50\, 49\, 48)\; font-family: Calibri\, sans-serif\; font-size: 11pt\; font-variant-numeric: normal\; font-variant-east-asian: normal\; margin: 0px 0px 0px 0.7pt\;"><b><span style="border-bottom-color: currentColor\; border-bottom-style: none\; border-bottom-width: 0px\; border-image-outset: 0\; border-image-repeat: stretch\; border-image-slice: 100%\; border-image-source: none\; border-image-width: 1\; border-left-color: currentColor\; border-left-style: none\; border-left-width: 0px\; border-right-color: currentColor\; border-right-style: none\; border-right-width: 0px\; border-top-color: currentColor\; border-top-style: none\; border-top-width: 0px\; color: rgb(84\, 88\, 97)\; font-family: Arial\,sans-serif\; font-size: inherit\; font-size-adjust: none\; font-stretch: inherit\; font-style: inherit\; font-variant: inherit\; font-weight: inherit\; line-height: inherit\; margin-bottom: 0px\; margin-left: 0px\; margin-right: 0px\; margin-top: 0px\; padding-bottom: 0px\; padding-left: 0px\; padding-right: 0px\; padding-top: 0px\; vertical-align: baseline\;">Friday\, June 21st</span></b></p>\n\n<p style="color: rgb(50\, 49\, 48)\; font-family: Calibri\, sans-serif\; font-size: 11pt\; font-variant-numeric: normal\; font-variant-east-asian: normal\; margin: 0px 0px 0px 0.7pt\;"><b><span style="border-bottom-color: currentColor\; border-bottom-style: none\; border-bottom-width: 0px\; border-image-outset: 0\; border-image-repeat: stretch\; border-image-slice: 100%\; border-image-source: none\; border-image-width: 1\; border-left-color: currentColor\; border-left-style: none\; border-left-width: 0px\; border-right-color: currentColor\; border-right-style: none\; border-right-width: 0px\; border-top-color: currentColor\; border-top-style: none\; border-top-width: 0px\; color: rgb(84\, 88\, 97)\; font-family: Arial\,sans-serif\; font-size: inherit\; font-size-adjust: none\; font-stretch: inherit\; font-style: inherit\; font-variant: inherit\; font-weight: inherit\; line-height: inherit\; margin-bottom: 0px\; margin-left: 0px\; margin-right: 0px\; margin-top: 0px\; padding-bottom: 0px\; padding-left: 0px\; padding-right: 0px\; padding-top: 0px\; vertical-align: baseline\;">9:00 - 10:30 a.m.</span></b></p>\n\n<p style="color: rgb(50\, 49\, 48)\; font-family: Calibri\, sans-serif\; font-size: 11pt\; font-variant-numeric: normal\; font-variant-east-asian: normal\; margin: 0px 0px 0px 0.7pt\;"><b><span style="border-bottom-color: currentColor\; border-bottom-style: none\; border-bottom-width: 0px\; border-image-outset: 0\; border-image-repeat: stretch\; border-image-slice: 100%\; border-image-source: none\; border-image-width: 1\; border-left-color: currentColor\; border-left-style: none\; border-left-width: 0px\; border-right-color: currentColor\; border-right-style: none\; border-right-width: 0px\; border-top-color: currentColor\; border-top-style: none\; border-top-width: 0px\; color: rgb(84\, 88\, 97)\; font-family: Arial\,sans-serif\; font-size: inherit\; font-size-adjust: none\; font-stretch: inherit\; font-style: inherit\; font-variant: inherit\; font-weight: inherit\; line-height: inherit\; margin-bottom: 0px\; margin-left: 0px\; margin-right: 0px\; margin-top: 0px\; padding-bottom: 0px\; padding-left: 0px\; padding-right: 0px\; padding-top: 0px\; vertical-align: baseline\;">Winchester Hospital Center for Cancer Care</span></b></p>\n\n<p style="color: rgb(50\, 49\, 48)\; font-family: Calibri\, sans-serif\; font-size: 11pt\; font-variant-numeric: normal\; font-variant-east-asian: normal\; margin: 0px 0px 0px 0.7pt\;"><b><span style="border-bottom-color: currentColor\; border-bottom-style: none\; border-bottom-width: 0px\; border-image-outset: 0\; border-image-repeat: stretch\; border-image-slice: 100%\; border-image-source: none\; border-image-width: 1\; border-left-color: currentColor\; border-left-style: none\; border-left-width: 0px\; border-right-color: currentColor\; border-right-style: none\; border-right-width: 0px\; border-top-color: currentColor\; border-top-style: none\; border-top-width: 0px\; color: rgb(84\, 88\, 97)\; font-family: Arial\,sans-serif\; font-size: inherit\; font-size-adjust: none\; font-stretch: inherit\; font-style: inherit\; font-variant: inherit\; font-weight: inherit\; line-height: inherit\; margin-bottom: 0px\; margin-left: 0px\; margin-right: 0px\; margin-top: 0px\; padding-bottom: 0px\; padding-left: 0px\; padding-right: 0px\; padding-top: 0px\; vertical-align: baseline\;">620 Washington Street\, Winchester\, MA</span></b></p>\n\n<p style="color: rgb(50\, 49\, 48)\; font-family: Calibri\, sans-serif\; font-size: 11pt\; font-variant-numeric: normal\; font-variant-east-asian: normal\; margin: 0px 0px 0px 0.7pt\;"><span style="border-bottom-color: currentColor\; border-bottom-style: none\; border-bottom-width: 0px\; border-image-outset: 0\; border-image-repeat: stretch\; border-image-slice: 100%\; border-image-source: none\; border-image-width: 1\; border-left-color: currentColor\; border-left-style: none\; border-left-width: 0px\; border-right-color: currentColor\; border-right-style: none\; border-right-width: 0px\; border-top-color: currentColor\; border-top-style: none\; border-top-width: 0px\; color: inherit\; font-family: Arial\,sans-serif\; font-size: inherit\; font-size-adjust: none\; font-stretch: inherit\; font-style: inherit\; font-variant: inherit\; font-weight: inherit\; line-height: inherit\; margin-bottom: 0px\; margin-left: 0px\; margin-right: 0px\; margin-top: 0px\; padding-bottom: 0px\; padding-left: 0px\; padding-right: 0px\; padding-top: 0px\; vertical-align: baseline\;">RSVP is requested.</span></p>\n\n<p style="color: rgb(50\, 49\, 48)\; font-family: Calibri\, sans-serif\; font-size: 11pt\; font-variant-numeric: normal\; font-variant-east-asian: normal\; margin: 0px 0px 0px 0.7pt\;"><span style="border-bottom-color: currentColor\; border-bottom-style: none\; border-bottom-width: 0px\; border-image-outset: 0\; border-image-repeat: stretch\; border-image-slice: 100%\; border-image-source: none\; border-image-width: 1\; border-left-color: currentColor\; border-left-style: none\; border-left-width: 0px\; border-right-color: currentColor\; border-right-style: none\; border-right-width: 0px\; border-top-color: currentColor\; border-top-style: none\; border-top-width: 0px\; color: inherit\; font-family: Arial\,sans-serif\; font-size: inherit\; font-size-adjust: none\; font-stretch: inherit\; font-style: inherit\; font-variant: inherit\; font-weight: inherit\; line-height: inherit\; margin-bottom: 0px\; margin-left: 0px\; margin-right: 0px\; margin-top: 0px\; padding-bottom: 0px\; padding-left: 0px\; padding-right: 0px\; padding-top: 0px\; vertical-align: baseline\;">To RSVP call Marylou Hardy at (781) 744-3131 or email <a data-auth="NotApplicable" href="mailto:Marylou.hardy@lahey.org" rel="noopener noreferrer" style="border-bottom-color: currentColor\; border-bottom-style: none\; border-bottom-width: 0px\; border-image-outset: 0\; border-image-repeat: stretch\; border-image-slice: 100%\; border-image-source: none\; border-image-width: 1\; border-left-color: currentColor\; border-left-style: none\; border-left-width: 0px\; border-right-color: currentColor\; border-right-style: none\; border-right-width: 0px\; border-top-color: currentColor\; border-top-style: none\; border-top-width: 0px\; font-family: inherit\; font-size: inherit\; font-size-adjust: none\; font-stretch: inherit\; font-style: inherit\; font-variant: inherit\; font-weight: inherit\; line-height: inherit\; margin-bottom: 0px\; margin-left: 0px\; margin-right: 0px\; margin-top: 0px\; padding-bottom: 0px\; padding-left: 0px\; padding-right: 0px\; padding-top: 0px\; vertical-align: baseline\;" target="_blank">Marylou.hardy@lahey.org</a></span></p>\n
LOCATION:Winchester Hospital Center for Cancer Care 620 Washington Street\, Winchester\, MA
UID:e.2938.5303
SEQUENCE:3
DTSTAMP:20260425T030111Z
URL:https://business.wilmingtontewksburychamber.org/events/details/understanding-the-community-s-health-needs-community-forum-5303
END:VEVENT

END:VCALENDAR
