BEGIN:VCALENDAR
VERSION:2.0
PRODID:-//ChamberMaster//Event Calendar 2.0//EN
METHOD:PUBLISH
X-PUBLISHED-TTL:P3D
REFRESH-INTERVAL:P3D
CALSCALE:GREGORIAN
BEGIN:VEVENT
DTSTART:20190519T140000Z
DTEND:20190519T180000Z
X-MICROSOFT-CDO-ALLDAYEVENT:FALSE
SUMMARY:Troop 126 Carwash
DESCRIPTION:Troop 126 will be holding its annual car wash fundraiser this Sunday\, May 19th from 10:00 A.M. to 2:00 P.M. Cost is $5 per car.
X-ALT-DESC;FMTTYPE=text/html:Troop 126 will be holding its annual car wash fundraiser this Sunday\, May 19th from 10:00 A.M. to 2:00 P.M. Cost is $5 per car.
LOCATION:4th of July Building Wilmington
UID:e.2938.5294
SEQUENCE:3
DTSTAMP:20260425T030049Z
URL:https://business.wilmingtontewksburychamber.org/events/details/troop-126-carwash-5294
END:VEVENT

END:VCALENDAR
