BEGIN:VCALENDAR
VERSION:2.0
PRODID:-//ChamberMaster//Event Calendar 2.0//EN
METHOD:PUBLISH
X-PUBLISHED-TTL:P3D
REFRESH-INTERVAL:P3D
CALSCALE:GREGORIAN
BEGIN:VEVENT
DTSTART:20170707T230000Z
DTEND:20170708T010000Z
X-MICROSOFT-CDO-ALLDAYEVENT:FALSE
SUMMARY:This Week in the NPSL
DESCRIPTION:GLNPSL FC - Final NPSL home game of the 2017 season! Let's rally around the Rough Diamonds and support high level soccer in our local communities! 2018 Season will start in May 2018...stay tuned!
X-ALT-DESC;FMTTYPE=text/html:<div><span style="background: transparent\; color: rgb(101\, 119\, 134)\; text-decoration-line: none\;"><span style="font-size: 14px\;"><strong>GLNPSL&nbsp\;FC - Final NPSL&nbsp\;home game of the 2017 season!</strong> Let&#39\;s rally around the Rough Diamonds and support high level soccer in our local communities!</span><font color="#657786" style="font-weight: bold\; background: transparent\; color: rgb(101\, 119\, 134)\; text-decoration-line: none\;"><span style="background-image: initial\; background-position: initial\; background-size: initial\; background-repeat: initial\; background-attachment: initial\; background-origin: initial\; background-clip: initial\;"><a class="account-group js-account-group js-action-profile js-user-profile-link js-nav" href="https://twitter.com/GLnpslSoccer" style="font-weight: bold\; background: transparent\; color: rgb(101\, 119\, 134)\; text-decoration-line: none\;">&nbsp\;</a>2018 Season will start in May 2018...stay tuned!</span></font></span></div>\n
LOCATION:Tyngsborough High School 36v Norris Road Tyngsboro\, MA 01879
UID:e.2938.54
SEQUENCE:3
DTSTAMP:20260421T204726Z
URL:https://business.wilmingtontewksburychamber.org/events/details/this-week-in-the-npsl-54
END:VEVENT

END:VCALENDAR
