BEGIN:VCALENDAR
VERSION:2.0
PRODID:-//ChamberMaster//Event Calendar 2.0//EN
METHOD:PUBLISH
X-PUBLISHED-TTL:P3D
REFRESH-INTERVAL:P3D
CALSCALE:GREGORIAN
BEGIN:VEVENT
DTSTART:20180726T150000Z
DTEND:20180730T150000Z
X-MICROSOFT-CDO-ALLDAYEVENT:FALSE
SUMMARY:The Moving Wall
DESCRIPTION:The Moving Vietnam Memorial Wall will be erected in Wilmington and on Display from JULY 26th through JULY 30th\, 2018. The Moving Wall\, a 50% sized exact replica of the Vietnam War Memorial Wall in Washington DC\, will be erected on the Town Common in Wilmington\, MA on Thursday July 26th.  Opening Ceremonies begin promptly at 7:00 pm Additional ceremonies are planned for Friday\, Saturday and Sunday evenings as well.  Details about the Ceremonies and other information will be available here.\n\n \n\nThis is an historic event for the Town of Wilmington and for the entire region.  Particular honor will be paid to four men from Wilmington who gave their lives in the Vietnam War.  Their names are Richard Welch\, John Rich\, John Fullarton\, and Robert Parent.  In addition\, attention will be dedicated to the area's Gold Star Mothers (those who have lost sons or daughters to war-time conflict)\, Public Safety Professionals (Police\, Fire) and all branches of the military. \n\n \n\nThe Wall is OPEN TO PUBLIC and FREE OF CHARGE\, for 24 HOURS A DAY       \n\nJuly 26th 11:00 AM TO July 30th 11:00AM
X-ALT-DESC;FMTTYPE=text/html:The Moving Vietnam Memorial Wall will be erected in Wilmington and on Display from JULY 26th through JULY 30th\, 2018. The Moving Wall\, a 50% sized exact replica of the Vietnam War Memorial Wall in Washington DC\, will be erected on the Town Common in Wilmington\, MA on Thursday July 26th.&nbsp\; Opening Ceremonies begin promptly at 7:00 pm Additional ceremonies are planned for Friday\, Saturday and Sunday evenings as well.&nbsp\; Details about the Ceremonies and other information will be available <a href="https://www.facebook.com/Wilmington-Moving-Wall-726-730-2018-1857285977898980/">here</a>.<br />\n&nbsp\;<br />\nThis is an historic event for the Town of Wilmington and for the entire region.&nbsp\; Particular honor will be paid to four men from Wilmington who gave their lives in the Vietnam War.&nbsp\; Their names are Richard Welch\, John Rich\, John Fullarton\, and Robert Parent.&nbsp\; In addition\, attention will be dedicated to the area&rsquo\;s Gold Star Mothers (those who have lost sons or daughters to war-time conflict)\, Public Safety Professionals (Police\, Fire) and all branches of the military.&nbsp\;<br />\n&nbsp\;<br />\nThe Wall is OPEN TO PUBLIC and FREE OF CHARGE\, for 24 HOURS A DAY&nbsp\; &nbsp\; &nbsp\; &nbsp\;<br />\nJuly 26th 11:00 AM TO July 30th 11:00AM
LOCATION:Wilmington Common
UID:e.2938.3202
SEQUENCE:3
DTSTAMP:20260425T204746Z
URL:https://business.wilmingtontewksburychamber.org/events/details/the-moving-wall-3202
END:VEVENT

END:VCALENDAR
