BEGIN:VCALENDAR
VERSION:2.0
PRODID:-//ChamberMaster//Event Calendar 2.0//EN
METHOD:PUBLISH
X-PUBLISHED-TTL:P3D
REFRESH-INTERVAL:P3D
CALSCALE:GREGORIAN
BEGIN:VEVENT
DTSTART:20190620T203000Z
DTEND:20190620T223000Z
X-MICROSOFT-CDO-ALLDAYEVENT:FALSE
SUMMARY:The Longest Day Fundraiser
DESCRIPTION:Celebrate Alzheimer's Associations The Longest Day at Bayberry \n\n\n\nEnjoy an afternoon of raffles\, food\, live music and fun at our Longest Day celebration! Tickets for the event  are $25 and include food and two drinks from our bar\, we will be serving beer\, wine and our signature drink\, Purple Passion!\n\n\n\nOur menu includes: From the sea: lobster roll\, shrimp cocktail\, clam chowder Salads: potato\, garden\, fruit\, pasta Off the grill: cheese burger\, hot dog\, BBQ chicken Sides: coleslaw\, corn on the cob\, potato chips Desert: Hershey's assorted ice cream cart\n\n\n\nFor more information or to RSVP call: 978-640-0194 We're located at 2000 Emerald Court in Tewksbury\, MA bayberryatemeraldcourt.com
X-ALT-DESC;FMTTYPE=text/html:Celebrate Alzheimer&rsquo\;s Associations The Longest Day at Bayberry&nbsp\;<br />\n<br />\nEnjoy an afternoon of raffles\, food\, live music and fun at our Longest Day celebration! Tickets for the event&nbsp\; are $25 and include food and two drinks from our bar\, we will be serving beer\, wine and our signature drink\, Purple Passion!<br />\n<br />\nOur menu includes: From the sea: lobster roll\, shrimp cocktail\, clam chowder Salads: potato\, garden\, fruit\, pasta Off the grill: cheese burger\, hot dog\, BBQ chicken Sides: coleslaw\, corn on the cob\, potato chips Desert: Hershey&rsquo\;s assorted ice cream cart<br />\n<br />\nFor more information or to RSVP call: 978-640-0194 We&rsquo\;re located at 2000 Emerald Court in Tewksbury\, MA bayberryatemeraldcourt.com<br />\n<br />\n&nbsp\;
LOCATION:Bayberry at Emerald Court 2000 Emerald Court Tewksbury\, MA
UID:e.2938.5301
SEQUENCE:3
DTSTAMP:20260425T011353Z
URL:https://business.wilmingtontewksburychamber.org/events/details/the-longest-day-fundraiser-5301
END:VEVENT

END:VCALENDAR
