BEGIN:VCALENDAR
VERSION:2.0
PRODID:-//ChamberMaster//Event Calendar 2.0//EN
METHOD:PUBLISH
X-PUBLISHED-TTL:P3D
REFRESH-INTERVAL:P3D
CALSCALE:GREGORIAN
BEGIN:VEVENT
DTSTART;VALUE=DATE:20180621
DTEND;VALUE=DATE:20180622
TRANSP:TRANSPARENT
X-MICROSOFT-CDO-ALLDAYEVENT:TRUE
SUMMARY:The Longest Day Fundraiser
DESCRIPTION:Join Bayberry for our Longest Day Celebration! \n\nWe will have a delicious spread including BBQ and lobster rolls - followed up with dancing\, raffles and entertainment! \n\n\n\nThe Longest Day is held annually on the summer solstice\, the duration of this sunrise-to-sunset event symbolizes the challenging journey of those living with the disease and their caregivers. This is an event to honor the strength\, passion\, and endurance of those facing Alzheimer's disease. Together we will raise awareness and funds for the care\, support and research efforts of the Alzheimer's Association.\n\n\n\nRSVP by June 15: 978.640.0194 \n\nor Cheryl@bayberryatemeraldcourt.com
X-ALT-DESC;FMTTYPE=text/html:Join Bayberry for our Longest Day Celebration!&nbsp\;<br />\nWe will have a delicious spread including BBQ and lobster rolls - followed up with dancing\, raffles and entertainment!&nbsp\;<br />\n<br />\nThe Longest Day is held annually on the summer solstice\, the duration of this sunrise-to-sunset event symbolizes the challenging journey of those living with the disease and their caregivers. This is an event to honor the strength\, passion\, and endurance of those facing Alzheimer&rsquo\;s disease. Together we will raise awareness and funds for the care\, support and research efforts of the Alzheimer&rsquo\;s Association.<br />\n<br />\nRSVP by June 15: 978.640.0194&nbsp\;<br />\nor Cheryl@bayberryatemeraldcourt.com
LOCATION:Bayberry at Emerald Court 2000 Emerald Court Tewksbury\, MA
UID:e.2938.5196
SEQUENCE:3
DTSTAMP:20260425T225345Z
URL:https://business.wilmingtontewksburychamber.org/events/details/the-longest-day-fundraiser-5196
END:VEVENT

END:VCALENDAR
