BEGIN:VCALENDAR
VERSION:2.0
PRODID:-//ChamberMaster//Event Calendar 2.0//EN
METHOD:PUBLISH
X-PUBLISHED-TTL:P3D
REFRESH-INTERVAL:P3D
CALSCALE:GREGORIAN
BEGIN:VEVENT
DTSTART:20181115T210000Z
DTEND:20181116T010000Z
X-MICROSOFT-CDO-ALLDAYEVENT:FALSE
SUMMARY:Thanksgiving Open House & Ribbon Cutting @ Exit Family First Realty
DESCRIPTION:Come check out EXIT's recent office expansion and network with local business professionals \n\n\n\nOpen House \n\n4:00 pm - 8:00 pm\n\nTraining & Conference Center Ribbon Cutting\n\n5:00 pm\n\n\n\n~ Light Refreshments ~
X-ALT-DESC;FMTTYPE=text/html:Come check out EXIT&#39\;s recent office expansion and network with local business professionals&nbsp\;<br />\n<br />\nOpen House&nbsp\;<br />\n4:00 pm - 8:00 pm<br />\nTraining &amp\; Conference Center Ribbon Cutting<br />\n5:00 pm<br />\n<br />\n~ Light Refreshments ~
LOCATION:21 Middlesex Avenue\, Suite 101 & 102 Wilmington\, MA 01887
UID:e.2938.5225
SEQUENCE:3
DTSTAMP:20260425T134724Z
URL:https://business.wilmingtontewksburychamber.org/events/details/thanksgiving-open-house-ribbon-cutting-exit-family-first-realty-5225
END:VEVENT

END:VCALENDAR
