BEGIN:VCALENDAR
VERSION:2.0
PRODID:-//ChamberMaster//Event Calendar 2.0//EN
METHOD:PUBLISH
X-PUBLISHED-TTL:P3D
REFRESH-INTERVAL:P3D
CALSCALE:GREGORIAN
BEGIN:VEVENT
DTSTART:20190908T130000Z
DTEND:20190908T180000Z
X-MICROSOFT-CDO-ALLDAYEVENT:FALSE
SUMMARY:Tewksbury Rotary Blood Drive
DESCRIPTION:Tewksbury Rotary Club Blood Drive\n\nMason Wamesit Lodge\n\nMasonic Hall\n\nMain Room\n\n70 Victor Drive\n\nTewksbury\, MA 01876\n\nSunday\, September 8\, 2019\n\n9:00 am - 2:00 pm\n\n\n\nPlease call 1-800-RED-CROSS or visit RedCrossBlood.org and enter Rotary Club to schedule an appointment.
X-ALT-DESC;FMTTYPE=text/html:Tewksbury Rotary Club Blood Drive<br />\nMason Wamesit Lodge<br />\nMasonic Hall<br />\nMain Room<br />\n70 Victor Drive<br />\nTewksbury\, MA 01876<br />\nSunday\, September 8\, 2019<br />\n9:00 am - 2:00 pm<br />\n<br />\nPlease call 1-800-RED-CROSS or visit RedCrossBlood.org and enter Rotary Club to schedule an appointment.
LOCATION:Mason Wamesit Lodge Masonic Hall Main Room 70 Victor Drive Tewksbury\, MA 01876
UID:e.2938.5538
SEQUENCE:3
DTSTAMP:20260424T214641Z
URL:https://business.wilmingtontewksburychamber.org/events/details/tewksbury-rotary-blood-drive-5538
END:VEVENT

END:VCALENDAR
