BEGIN:VCALENDAR
VERSION:2.0
PRODID:-//ChamberMaster//Event Calendar 2.0//EN
METHOD:PUBLISH
X-PUBLISHED-TTL:P3D
REFRESH-INTERVAL:P3D
CALSCALE:GREGORIAN
BEGIN:VEVENT
DTSTART:20181201T230000Z
DTEND:20181202T013000Z
X-MICROSOFT-CDO-ALLDAYEVENT:FALSE
SUMMARY:Tewksbury Public Library Festival of Trees Gala Night
DESCRIPTION:Tewksbury Public Library Staff\, Trustees and Friends Present...\n\n \n\nThe 2018 Festival of Trees\n\nA community celebration of the holidays sponsored by the Staff\, Trustees\, and Friends of the TPL\n\n\n\n\n\n\n\n\nThe 2018 Festival of Trees will be held at the Tewksbury Public Library throughout the month of December. We invite you or your organization to join in the holiday spirit by setting up a decorated tree in the Library. The Library will hold free special events throughout December to encourage residents to view the trees!\n\nThis year\, for your convenience\, the Gala Night will be held on Friday\, December 1\, 2018\,  from 6:00 pm-8:30 pm. We moved our Gala Night so that you will have plenty of time to attend the Town Tree Lighting on the Common and Tewksbury Congregations Church Pie Social on December 1st and won't miss the festivities here. \n\nREGISTRATION IS FREE!
X-ALT-DESC;FMTTYPE=text/html:<header class="panel-pane region-page-title">\n<h1 class="page-title" style="text-align: center\;"><span style="font-size:20px"><span style="font-family:arial\,helvetica\,sans-serif"><strong>Tewksbury Public Library&nbsp\;Staff\, Trustees and Friends Present...</strong></span></span></h1>\n\n<h1 class="page-title">&nbsp\;</h1>\n\n<h1 class="page-title" style="text-align: center\;"><span style="color:#339999"><span style="font-size:36px"><span style="font-family:times new roman\,times\,serif"><strong>The 2018&nbsp\;Festival of Trees</strong></span></span><br />\n<span style="font-size:20px"><span style="font-family:times new roman\,times\,serif"><strong>A community celebration of the holidays sponsored by the Staff\, Trustees\, and Friends of the TPL</strong></span></span></span></h1>\n</header>\n\n<div class="panel-pane pane-node-content">\n<div class="pane-inner clearfix">\n<div class="pane-content">\n<article about="/get-involved/pages/2017-festival-trees" class="node-403 node node-freeform clearfix" role="article" typeof="sioc:Item foaf:Document">\n<div class="content">\n<div class="field field-name-body field-type-text-with-summary field-label-hidden">\n<p>The 2018&nbsp\;Festival of Trees will be held at the Tewksbury Public Library throughout the month of December. We invite you or your organization to join in the holiday spirit by setting up a decorated tree in the Library. The Library will hold free special events throughout December to encourage residents to&nbsp\;view the trees!</p>\n\n<p><em>This year\, for your convenience\, the Gala Night will be held on Friday\, December 1\, 2018\,&nbsp\; from 6:00 pm-8:30 pm. We moved our&nbsp\;Gala Night&nbsp\;so that you will have plenty of time to attend the Town Tree Lighting on the Common and Tewksbury Congregations Church Pie Social on December 1st and won&#39\;t miss the festivities here.&nbsp\;</em></p>\n\n<p background-color:="" color:="" font-size:="" helvetica="" style="box-sizing: border-box\; margin: 0px 0px 1.5rem\; padding: 0px\; border: 0px\; font-variant-numeric: inherit\; font-stretch: inherit\; line-height: inherit\; font-family: " text-align:="" vertical-align:=""><span style="box-sizing: border-box\; margin: 0px\; padding: 0px\; border: 0px\; font-style: inherit\; font-variant: inherit\; font-weight: inherit\; font-stretch: inherit\; line-height: inherit\; font-family: inherit\; font-size: 18px\; vertical-align: baseline\;"><strong style="box-sizing: border-box\; margin: 0px\; padding: 0px\; border: 0px\; font-style: inherit\; font-variant: inherit\; font-stretch: inherit\; line-height: inherit\; font-family: inherit\; vertical-align: baseline\;"><span style="box-sizing: border-box\; margin: 0px\; padding: 0px\; border: 0px\; font-style: inherit\; font-variant: inherit\; font-weight: inherit\; font-stretch: inherit\; line-height: inherit\; font-family: inherit\; vertical-align: baseline\; color: rgb(51\, 153\, 153)\;">REGISTRATION IS FREE!&nbsp\;&nbsp\;</span></strong></span></p>\n\n<p background-color:="" color:="" font-size:="" helvetica="" style="box-sizing: border-box\; margin: 0px 0px 1.5rem\; padding: 0px\; border: 0px\; font-variant-numeric: inherit\; font-stretch: inherit\; line-height: inherit\; font-family: " vertical-align:="">&nbsp\;</p>\n</div>\n</div>\n</article>\n</div>\n</div>\n</div>\n
LOCATION:Tewksbury Public Library 300 Chandler Street Tewksbury\, MA
UID:e.2938.5242
SEQUENCE:3
DTSTAMP:20260425T115926Z
URL:https://business.wilmingtontewksburychamber.org/events/details/tewksbury-public-library-festival-of-trees-gala-night-5242
END:VEVENT

END:VCALENDAR
