BEGIN:VCALENDAR
VERSION:2.0
PRODID:-//ChamberMaster//Event Calendar 2.0//EN
METHOD:PUBLISH
X-PUBLISHED-TTL:P3D
REFRESH-INTERVAL:P3D
CALSCALE:GREGORIAN
BEGIN:VEVENT
DTSTART:20190826T180000Z
DTEND:20190826T193000Z
X-MICROSOFT-CDO-ALLDAYEVENT:FALSE
SUMMARY:Tewksbury Job Seekers Network: How To Speak With Confidence
DESCRIPTION:Discover the secret to feeling at ease when being seen and heard\, whether it is in an interview\, on camera\, or wherever you put yourself "out there." Learn how to clear the nerves and visibility blocks so that you'll be free to share your message with your unique style and brilliance. Led by Linda Ugelow\, speaker and Transformational Speaking coach. As a performer of 35 years and with a master's degree in Expressive Therapies/Movement Studies\, Ugelow has been helping people get comfortable in their skin for decades. Sponsored by the Friends of the Library. https://tewksburypl.assabetinteractive.com/calendar/tewksbury-job-seekers-network-tba-24/
X-ALT-DESC;FMTTYPE=text/html:Discover the secret to feeling at ease when being seen and heard\, whether it is in an interview\, on camera\, or wherever you put yourself &quot\;out there.&quot\; Learn how to clear the nerves and visibility blocks so that you&rsquo\;ll be free to share your message with your unique style and brilliance. Led by Linda Ugelow\, speaker and Transformational Speaking coach. As a performer of 35 years and with a master&rsquo\;s degree in Expressive Therapies/Movement Studies\, Ugelow has been helping people get comfortable in their skin for decades. Sponsored by the Friends of the Library. <a href="https://tewksburypl.assabetinteractive.com/calendar/tewksbury-job-seekers-network-tba-24/">https://tewksburypl.assabetinteractive.com/calendar/tewksbury-job-seekers-network-tba-24/</a><br />\n&nbsp\;
LOCATION:Meeting Room Tewksbury Public Library 300 Chandler Street\, Tewksbury\, MA\, 01876
UID:e.2938.5512
SEQUENCE:3
DTSTAMP:20260424T214815Z
URL:https://business.wilmingtontewksburychamber.org/events/details/tewksbury-job-seekers-network-how-to-speak-with-confidence-5512
END:VEVENT

END:VCALENDAR
