BEGIN:VCALENDAR
VERSION:2.0
PRODID:-//ChamberMaster//Event Calendar 2.0//EN
METHOD:PUBLISH
X-PUBLISHED-TTL:P3D
REFRESH-INTERVAL:P3D
CALSCALE:GREGORIAN
BEGIN:VEVENT
DTSTART:20190903T200000Z
DTEND:20190903T230000Z
X-MICROSOFT-CDO-ALLDAYEVENT:FALSE
SUMMARY:Tewksbury Community Market
DESCRIPTION:Tewksbury Community Market \n\n \n\nTuesdays\, until September 24\n\n4:00 pm - 7:00 pm\n\nTewksbury Public Library\n\n300 Chandler Street\, Tewksbury\n\n \n\nCupcake City-Reading\, Kona Ice & Much\, Much More... The Chamber will be there on 9/17! Be sure to come say hi!\n\n \n\nCheck out their Facebook Page for more info!
X-ALT-DESC;FMTTYPE=text/html:<div style="color: rgb(0\, 0\, 144)\; font-family: Arial\; font-size: 16px\; font-variant-numeric: normal\; font-variant-east-asian: normal\; font-weight: 700\;"><a href="https://www.facebook.com/pg/tewksburymarket/posts/?ref=page_internal" style="color: rgb(0\, 0\, 144)\; font-family: Arial\, Verdana\, Helvetica\, sans-serif\;" target="_blank">Tewksbury Community Market </a></div>\n\n<div align="left" style="color: rgb(0\, 0\, 144)\; font-family: Arial\; font-size: 16px\; font-variant-numeric: normal\; font-variant-east-asian: normal\; font-weight: 700\;">&nbsp\;</div>\n\n<div align="left" style="color: rgb(0\, 0\, 144)\; font-family: Arial\; font-size: 16px\; font-variant-numeric: normal\; font-variant-east-asian: normal\; font-weight: 700\;"><span style="font-family: Arial\, Verdana\, Helvetica\, sans-serif\;">Tuesdays\, until September 24</span></div>\n\n<div align="left" style="color: rgb(0\, 0\, 144)\; font-family: Arial\; font-size: 16px\; font-variant-numeric: normal\; font-variant-east-asian: normal\; font-weight: 700\;"><span style="font-family: Arial\, Verdana\, Helvetica\, sans-serif\;">4:00 pm - 7:00 pm</span></div>\n\n<div align="left" style="color: rgb(0\, 0\, 144)\; font-family: Arial\; font-size: 16px\; font-variant-numeric: normal\; font-variant-east-asian: normal\; font-weight: 700\;"><span style="font-family: Arial\, Verdana\, Helvetica\, sans-serif\;">Tewksbury Public Library</span></div>\n\n<div align="left" style="color: rgb(0\, 0\, 144)\; font-family: Arial\; font-size: 16px\; font-variant-numeric: normal\; font-variant-east-asian: normal\; font-weight: 700\;"><span style="font-family: Arial\, Verdana\, Helvetica\, sans-serif\;">300 Chandler Street\, Tewksbury</span></div>\n\n<div align="left" style="color: rgb(0\, 0\, 144)\; font-family: Arial\; font-size: 16px\; font-variant-numeric: normal\; font-variant-east-asian: normal\; font-weight: 700\;">&nbsp\;</div>\n\n<div align="left" style="color: rgb(0\, 0\, 144)\; font-family: Arial\; font-size: 16px\; font-variant-numeric: normal\; font-variant-east-asian: normal\; font-weight: 700\;"><span style="font-family: Arial\, Verdana\, Helvetica\, sans-serif\; font-size: 14px\; font-weight: normal\;">Cupcake City-Reading\, Kona Ice &amp\; Much\, Much More... The Chamber will be there on 9/17! Be sure to come say hi!</span></div>\n\n<div align="left" style="color: rgb(0\, 0\, 144)\; font-family: Arial\; font-size: 16px\; font-variant-numeric: normal\; font-variant-east-asian: normal\; font-weight: 700\;">&nbsp\;</div>\n\n<div align="left" style="color: rgb(0\, 0\, 144)\; font-family: Arial\; font-size: 16px\; font-variant-numeric: normal\; font-variant-east-asian: normal\; font-weight: 700\;"><span style="font-family: Arial\, Verdana\, Helvetica\, sans-serif\; font-size: 14px\; font-weight: normal\;">Check out their </span><a href="https://www.facebook.com/pg/tewksburymarket/posts/?ref=page_internal" style="color: rgb(0\, 0\, 144)\; font-family: Arial\, Verdana\, Helvetica\, sans-serif\; font-size: 14px\; font-weight: normal\;" target="_blank">Facebook Page</a><span style="font-family: Arial\, Verdana\, Helvetica\, sans-serif\; font-size: 14px\; font-weight: normal\;"> for more info!&nbsp\;</span></div>\n
LOCATION:Tewksbury Public Library 300 Chandler Street\, Tewksbury
UID:e.2938.5530
SEQUENCE:3
DTSTAMP:20260424T215006Z
URL:https://business.wilmingtontewksburychamber.org/events/details/tewksbury-farmer-s-market-09-03-2019-5530
END:VEVENT

END:VCALENDAR
