BEGIN:VCALENDAR
VERSION:2.0
PRODID:-//ChamberMaster//Event Calendar 2.0//EN
METHOD:PUBLISH
X-PUBLISHED-TTL:P3D
REFRESH-INTERVAL:P3D
CALSCALE:GREGORIAN
BEGIN:VEVENT
DTSTART:20191007T223000Z
DTEND:20191008T000000Z
X-MICROSOFT-CDO-ALLDAYEVENT:FALSE
SUMMARY:Tewksbury Community Round Table
DESCRIPTION:Representatives from Tewksbury-based non-profit organizations are invited to network at the library's Fall Community Roundtable. Attendees are encouraged to share information about their respective organization's programs\, services and upcoming events and fundraisers.  Attendees will receive a brief presentation on the basics of marketing for non-profits from Barbara Alveras\, PMP\, Principal and Founder of Sage Consulting. Attendees will also hear from a panel of Tewksbury journalists -- Your Tewksbury Today editor Bill Gilman\, Lowell Sun Tewksbury reporter Emma Murphy\, and Tewksbury Town Crier reporter Paige Impink -- on how non-profits can best leverage the local media to help amplify their messages. https://tewksburypl.assabetinteractive.com/calendar/community-roundtable-2/
X-ALT-DESC;FMTTYPE=text/html:<p style="margin:0in\;margin-bottom:.0001pt">Representatives from Tewksbury-based non-profit organizations are invited to network at the library&#39\;s Fall Community Roundtable. Attendees are encouraged to share information about their respective organization&#39\;s programs\, services and upcoming events and fundraisers.&nbsp\; Attendees will receive a brief presentation on the basics of marketing for non-profits from Barbara Alveras\, PMP\, Principal and Founder of Sage Consulting. Attendees will also hear from a panel of Tewksbury journalists -- Your Tewksbury Today editor Bill Gilman\, Lowell Sun Tewksbury reporter Emma Murphy\, and Tewksbury Town Crier reporter Paige Impink -- on how non-profits can best leverage the local media to help amplify their messages. https://tewksburypl.assabetinteractive.com/calendar/community-roundtable-2/<br />\n&nbsp\;</p>\n\n<h5 style="margin:0in\;margin-bottom:.0001pt\;box-sizing: border-box\;outline-color: invert\;\noutline-style: none\;outline-width: 0px"><span style="font-size:12.0pt\;\nfont-family:&quot\;inherit&quot\;\,serif\;color:#0092CF\;font-weight:normal"><o:p></o:p></span></h5>\n
LOCATION:Meeting Room Tewksbury Public Library 300 Chandler Street Tewksbury\, MA\, 01876
UID:e.2938.5513
SEQUENCE:3
DTSTAMP:20260424T200232Z
URL:https://business.wilmingtontewksburychamber.org/events/details/tewksbury-community-round-table-5513
END:VEVENT

END:VCALENDAR
