BEGIN:VCALENDAR
VERSION:2.0
PRODID:-//ChamberMaster//Event Calendar 2.0//EN
METHOD:PUBLISH
X-PUBLISHED-TTL:P3D
REFRESH-INTERVAL:P3D
CALSCALE:GREGORIAN
BEGIN:VEVENT
DTSTART:20190225T233000Z
DTEND:20190226T010000Z
X-MICROSOFT-CDO-ALLDAYEVENT:FALSE
SUMMARY:Tewksbury Community Round Table
DESCRIPTION:Representatives from 20+ Tewksbury-based non-profit organizations gather to (1) briefly discuss their group's purpose\, (2) highlight some of the programs and services offered by their group\; and (3) preview any upcoming big events or fundraisers their group is holding. The idea is to share information so that local non-profits can better serve residents.\n\n\n\nIf you or someone from your organization would like to attend\, please RSVP to Robert Hayes (rhayes@tewksburypl.org\, 978-640-4490 x 205) by Friday\, February 22\, 2019. Any questions can be directed to him as well.
X-ALT-DESC;FMTTYPE=text/html:<span style="background-color: transparent\; color: rgb(0\, 0\, 0)\; font-family: Candara\, sans-serif\, serif\, EmojiFont\; font-size: 16px\; font-variant-numeric: normal\; font-variant-east-asian: normal\;">Representatives from 20+ Tewksbury-based non-profit organizations gather to (1) briefly discuss their group&rsquo\;s purpose\, (2) highlight some of the programs and services offered by their group\; and (3) preview any upcoming big events or fundraisers their group is holding. The idea is to share information so that local non-profits can better serve residents.<br />\n<br />\nIf you or someone from your organization would like to attend\, please RSVP to Robert Hayes (rhayes@tewksburypl.org\, 978-640-4490 x 205) by&nbsp\;</span><span style="background-color: transparent\; color: rgb(0\, 0\, 0)\; font-size: 16px\; font-variant-numeric: normal\; font-variant-east-asian: normal\; font-weight: 700\;">Friday\, February 22\, 2019.</span><span style="background-color: transparent\; color: rgb(0\, 0\, 0)\; font-family: Candara\, sans-serif\, serif\, EmojiFont\; font-size: 16px\; font-variant-numeric: normal\; font-variant-east-asian: normal\;">&nbsp\;Any questions can be directed to him as well.</span>
LOCATION:Tewksbury Public Library 300 Chandler Street Tewksbury\, MA
UID:e.2938.5265
SEQUENCE:3
DTSTAMP:20260425T102830Z
URL:https://business.wilmingtontewksburychamber.org/events/details/tewksbury-community-round-table-5265
END:VEVENT

END:VCALENDAR
