BEGIN:VCALENDAR
VERSION:2.0
PRODID:-//ChamberMaster//Event Calendar 2.0//EN
METHOD:PUBLISH
X-PUBLISHED-TTL:P3D
REFRESH-INTERVAL:P3D
CALSCALE:GREGORIAN
BEGIN:VEVENT
DTSTART;VALUE=DATE:20180407
DTEND;VALUE=DATE:20180408
TRANSP:TRANSPARENT
X-MICROSOFT-CDO-ALLDAYEVENT:TRUE
SUMMARY:Tewksbury Annual Town Elections
DESCRIPTION:Voting is a right\, a privilege and a responsibility. Get out and vote!\n\nSaturday\, April 7th\, 2018\n\nPolls open at 8:00 am and close at 8:00 pm.\n\nFor more information\, visit Tewksbury Annual Town Elections.
X-ALT-DESC;FMTTYPE=text/html:Voting is a right\, a privilege and a responsibility. Get out and vote!<br />\nSaturday\, April 7th\, 2018<br />\nPolls open at 8:00 am and close at 8:00 pm.<br />\nFor more information\, visit <a href="http://www.tewksbury-ma.gov/town-clerk/pages/annual-town-election-nomination-papers" target="_blank">Tewksbury Annual Town Elections.</a><br />\n<br />\n&nbsp\;
LOCATION:
UID:e.2938.2161
SEQUENCE:3
DTSTAMP:20260426T023810Z
URL:https://business.wilmingtontewksburychamber.org/events/details/tewksbury-annual-town-elections-2161
END:VEVENT

END:VCALENDAR
