BEGIN:VCALENDAR
VERSION:2.0
PRODID:-//ChamberMaster//Event Calendar 2.0//EN
METHOD:PUBLISH
X-PUBLISHED-TTL:P3D
REFRESH-INTERVAL:P3D
CALSCALE:GREGORIAN
BEGIN:VEVENT
DTSTART:20190815T213000Z
DTEND:20190815T233000Z
X-MICROSOFT-CDO-ALLDAYEVENT:FALSE
SUMMARY:Summer Smash with Young Professionals
DESCRIPTION:Are you a young professional or simply young at heart? Everyone is invited to join us and do some our summer networking with the Woburn Business Association's YP group.\n\n\n \n\nThis event will include cooking demos from a Food Network chef\, appetizers\, refreshments and of course\, help you COOK UP lots of great contacts and new ideas for your business.
X-ALT-DESC;FMTTYPE=text/html:<div style="margin: 0px\; padding: 0px\; border: 0px\; outline: 0px\; font-size: 12px\; vertical-align: baseline\; background-image: initial\; background-position: initial\; background-size: initial\; background-repeat: initial\; background-attachment: initial\; background-origin: initial\; background-clip: initial\; box-sizing: border-box\; color: rgb(56\, 123\, 55)\; font-family: Arial\; white-space: pre-wrap\;">\n<div style="color: rgb(56\, 123\, 55)\; font-family: Arial\; font-size: 12px\; white-space: pre-wrap\; background-color: rgb(255\, 255\, 255)\;"><span style="color: rgb(0\, 0\, 0)\; font-size: 16px\;">Are you a young professional or simply young at heart? Everyone is invited to join us and do some our summer networking with the Woburn Business Association's YP group.</span></div>\n\n<div style="color: rgb(56\, 123\, 55)\; font-family: Arial\; font-size: 12px\; white-space: pre-wrap\; background-color: rgb(255\, 255\, 255)\;">\n<div style="color: rgb(56\, 123\, 55)\; font-family: Arial\; font-size: 12px\; font-variant-numeric: normal\; font-variant-east-asian: normal\; white-space: pre-wrap\;">&nbsp\;</div>\n\n<div style="color: rgb(56\, 123\, 55)\; font-family: Arial\; font-size: 12px\; font-variant-numeric: normal\; font-variant-east-asian: normal\; white-space: pre-wrap\;"><span style="color: rgb(0\, 0\, 0)\; font-size: 16px\;">This event will include cooking demos from a Food Network chef\, appetizers\, refreshments and of course\, help you COOK UP lots of great contacts and new ideas for your business.</span></div>\n</div>\n</div>\n
LOCATION:Boston Appliance 60 Cummings Park Drive\, Woburn
UID:e.2938.5508
SEQUENCE:3
DTSTAMP:20260424T214407Z
URL:https://business.wilmingtontewksburychamber.org/events/details/summer-smash-with-young-professionals-5508
END:VEVENT

END:VCALENDAR
