BEGIN:VCALENDAR
VERSION:2.0
PRODID:-//ChamberMaster//Event Calendar 2.0//EN
METHOD:PUBLISH
X-PUBLISHED-TTL:P3D
REFRESH-INTERVAL:P3D
CALSCALE:GREGORIAN
BEGIN:VEVENT
DTSTART:20180725T213000Z
DTEND:20180725T233000Z
X-MICROSOFT-CDO-ALLDAYEVENT:FALSE
SUMMARY:Summer Biz Brew
DESCRIPTION:Serving Straight Up Business and Spirited Conversation While Giving Back to our Community!\n\n			 \n\n			Let's toast Summer\, and enjoy patio breezes while supporting People Helping People. Join us for delicious food\, great connections and the good vibes that go along with supporting People Helping People organization. \n\n			 \n\n			Best off all\, Reading Coop Bank's Charitable Foundation will be matching each ticket donation!
X-ALT-DESC;FMTTYPE=text/html:<table border="0" cellpadding="0" cellspacing="0" style="width:100.0%\;border-collapse:collapse\;" width="100%">\n	<tbody>\n		<tr>\n			<td style="padding:7.5pt 15.0pt 7.5pt 15.0pt\;vertical-align:top\;"><strong><em><span style="color:#4C4C4C\;"><span style="font-family:arial\,sans-serif\;"><span style="font-size:12.0pt\;">Serving Straight Up Business and Spirited Conversation While Giving Back to our Community!</span></span></span></em></strong><br />\n			&nbsp\;<br />\n			<span style="color:#BF3F2F\;"><span style="font-family:arial\,sans-serif\;"><span style="font-size:10.5pt\;">Let&rsquo\;s toast Summer\, and enjoy patio breezes while supporting People Helping People. Join us for delicious food\, great connections and the good vibes that go along with supporting People Helping People organization. </span></span></span><br />\n			&nbsp\;<br />\n			<span style="color:#BF3F2F\;"><span style="font-family:arial\,sans-serif\;"><span style="font-size:10.5pt\;">Best off all\, Reading Coop Bank&rsquo\;s Charitable Foundation will be matching each ticket donation!</span></span></span></td>\n		</tr>\n	</tbody>\n</table>\n
LOCATION:Jack's Coal Fired Pizza 2 Wall Street in Burlington MA (across from Wayside Plaza)
UID:e.2938.5203
SEQUENCE:3
DTSTAMP:20260425T225431Z
URL:https://business.wilmingtontewksburychamber.org/events/details/summer-biz-brew-5203
END:VEVENT

END:VCALENDAR
