BEGIN:VCALENDAR
VERSION:2.0
PRODID:-//ChamberMaster//Event Calendar 2.0//EN
METHOD:PUBLISH
X-PUBLISHED-TTL:P3D
REFRESH-INTERVAL:P3D
CALSCALE:GREGORIAN
BEGIN:VEVENT
DTSTART:20181014T160000Z
DTEND:20181014T200000Z
X-MICROSOFT-CDO-ALLDAYEVENT:FALSE
SUMMARY:Strongwater Farm Harvest Hoedown
DESCRIPTION:ALL Proceeds with benefit Strongwater Farm Programs    \n\n\n\nJimmy Connors Band - Ipswich Ale Beer Tent - Food - Games - Horse Demo - Hay Rides
X-ALT-DESC;FMTTYPE=text/html:ALL Proceeds with benefit Strongwater Farm Programs&nbsp\;&nbsp\;&nbsp\;&nbsp\;<br />\n<br />\nJimmy Connors Band - Ipswich Ale Beer Tent - Food - Games - Horse Demo - Hay Rides&nbsp\;&nbsp\;&nbsp\;&nbsp\;&nbsp\;&nbsp\;&nbsp\;&nbsp\;
LOCATION:Strongwater Farm 500 Livingston Street Tewksbury
UID:e.2938.5214
SEQUENCE:3
DTSTAMP:20260425T154424Z
URL:https://business.wilmingtontewksburychamber.org/events/details/strongwater-farm-harvest-hoedown-5214
END:VEVENT

END:VCALENDAR
