BEGIN:VCALENDAR
VERSION:2.0
PRODID:-//ChamberMaster//Event Calendar 2.0//EN
METHOD:PUBLISH
X-PUBLISHED-TTL:P3D
REFRESH-INTERVAL:P3D
CALSCALE:GREGORIAN
BEGIN:VEVENT
DTSTART:20180913T211500Z
DTEND:20180913T233000Z
X-MICROSOFT-CDO-ALLDAYEVENT:FALSE
SUMMARY:Speed Networking at Bayberry at Emerald Court Assisted Living
DESCRIPTION:5:15 pm\n\nOpen Networking\n\nComplimentary cocktails & hors d'oeuvres\n\n \n\n5:45 pm\n\nSpeed Networking\n\n \n\n7:15 pm\n\nOpen Networking\n\n \n\n** Door Prize Raffle **\n\n$100 Tew-Mac Tavern Gift Card\n\n \n\nFasten your seat belt it's sure to be an energizing and FUN evening!\n\n \n\n\n	No awkward introductions\n	4-minute "chats"\n	Expand your network\n	Find leads easily\n	Meet lots of people quickly\n\n\n \n\nSPACE IS LIMITED\, REGISTER TODAY!\n\nFREE event but MUST be committed\n\nand pre-registered. \n\n \n\nLimit 2 participants from each industry.\n\nLimit one attendee per company.\n\nStructured seating based on RSVPs.
X-ALT-DESC;FMTTYPE=text/html:<div align="center" style="background-color: transparent\; color: rgb(56\, 123\, 55)\; font-family: Arial\; font-size: 12px\; font-variant-numeric: normal\; font-variant-east-asian: normal\; text-align: center\;"><span style="font-size:16px\;"><span style="color: rgb(54\, 138\, 156)\;">5:15 pm</span></span></div>\n\n<div align="center" style="background-color: transparent\; color: rgb(56\, 123\, 55)\; font-family: Arial\; font-size: 12px\; font-variant-numeric: normal\; font-variant-east-asian: normal\; text-align: center\;"><span style="font-size:16px\;"><span style="color: rgb(54\, 138\, 156)\;">Open Networking</span></span></div>\n\n<div align="center" style="background-color: transparent\; color: rgb(56\, 123\, 55)\; font-family: Arial\; font-size: 12px\; font-variant-numeric: normal\; font-variant-east-asian: normal\; text-align: center\;"><span style="font-size:16px\;"><span style="color: rgb(54\, 138\, 156)\;">Complimentary cocktails &amp\; hors d&#39\;oeuvres</span></span></div>\n\n<div align="center" style="background-color: transparent\; color: rgb(56\, 123\, 55)\; font-family: Arial\; font-size: 12px\; font-variant-numeric: normal\; font-variant-east-asian: normal\; text-align: center\;">&nbsp\;</div>\n\n<div align="center" style="background-color: transparent\; color: rgb(56\, 123\, 55)\; font-family: Arial\; font-size: 12px\; font-variant-numeric: normal\; font-variant-east-asian: normal\; text-align: center\;"><span style="font-size:16px\;"><span style="color: rgb(54\, 138\, 156)\;">5:45 pm</span></span></div>\n\n<div align="center" style="background-color: transparent\; color: rgb(56\, 123\, 55)\; font-family: Arial\; font-size: 12px\; font-variant-numeric: normal\; font-variant-east-asian: normal\; text-align: center\;"><span style="font-size:16px\;"><span style="color: rgb(54\, 138\, 156)\;">Speed Networking</span></span></div>\n\n<div align="center" style="background-color: transparent\; color: rgb(56\, 123\, 55)\; font-family: Arial\; font-size: 12px\; font-variant-numeric: normal\; font-variant-east-asian: normal\; text-align: center\;">&nbsp\;</div>\n\n<div align="center" style="background-color: transparent\; color: rgb(56\, 123\, 55)\; font-family: Arial\; font-size: 12px\; font-variant-numeric: normal\; font-variant-east-asian: normal\; text-align: center\;"><span style="font-size:16px\;"><span style="color: rgb(54\, 138\, 156)\;">7:15 pm</span></span></div>\n\n<div align="center" style="background-color: transparent\; color: rgb(56\, 123\, 55)\; font-family: Arial\; font-size: 12px\; font-variant-numeric: normal\; font-variant-east-asian: normal\; text-align: center\;"><span style="font-size:16px\;"><span style="color: rgb(54\, 138\, 156)\;">Open Networking</span></span><br />\n&nbsp\;</div>\n\n<div align="center" style="background-color: transparent\; color: rgb(56\, 123\, 55)\; font-family: Arial\; font-size: 12px\; font-variant-numeric: normal\; font-variant-east-asian: normal\; text-align: center\;"><strong><span style="font-size:16px\;"><span style="color: rgb(54\, 138\, 156)\;">** Door Prize Raffle **<br />\n$100 Tew-Mac Tavern Gift Card</span></span></strong></div>\n\n<div align="center" style="background-color: transparent\; color: rgb(56\, 123\, 55)\; font-family: Arial\; font-size: 12px\; font-variant-numeric: normal\; font-variant-east-asian: normal\; text-align: center\;">&nbsp\;</div>\n\n<div align="center" style="background-color: transparent\; color: rgb(56\, 123\, 55)\; font-family: Arial\; font-size: 12px\; font-variant-numeric: normal\; font-variant-east-asian: normal\; text-align: center\;"><span style="font-size:16px\;"><span style="color: rgb(255\, 176\, 20)\; font-weight: 700\;">Fasten your seat belt it&#39\;s sure to be an energizing and FUN evening!</span></span></div>\n\n<div style="background-color: transparent\; color: rgb(56\, 123\, 55)\; font-family: Arial\; font-size: 12px\; font-variant-numeric: normal\; font-variant-east-asian: normal\;">&nbsp\;</div>\n\n<ul style="background-color: transparent\; color: rgb(56\, 123\, 55)\; font-family: Arial\; font-size: 12px\; font-variant-numeric: normal\; font-variant-east-asian: normal\; margin: 0px 0px 0px 40px\; padding-left: 0px\; padding-right: 0px\;">\n	<li style="color: rgb(54\, 138\, 156)\; line-height: 14.4px\; margin-bottom: 0px\; margin-left: 0px\; margin-right: 0px\; margin-top: 0px\; padding-bottom: 0px\; padding-left: 0px\; padding-right: 0px\; padding-top: 0px\;"><span style="font-size:16px\;">No awkward introductions</span></li>\n	<li style="color: rgb(54\, 138\, 156)\; line-height: 14.4px\; margin-bottom: 0px\; margin-left: 0px\; margin-right: 0px\; margin-top: 0px\; padding-bottom: 0px\; padding-left: 0px\; padding-right: 0px\; padding-top: 0px\;"><span style="font-size:16px\;">4-minute &quot\;chats&quot\;</span></li>\n	<li style="color: rgb(54\, 138\, 156)\; line-height: 14.4px\; margin-bottom: 0px\; margin-left: 0px\; margin-right: 0px\; margin-top: 0px\; padding-bottom: 0px\; padding-left: 0px\; padding-right: 0px\; padding-top: 0px\;"><span style="font-size:16px\;">Expand your network</span></li>\n	<li style="color: rgb(54\, 138\, 156)\; line-height: 14.4px\; margin-bottom: 0px\; margin-left: 0px\; margin-right: 0px\; margin-top: 0px\; padding-bottom: 0px\; padding-left: 0px\; padding-right: 0px\; padding-top: 0px\;"><span style="font-size:16px\;">Find leads easily</span></li>\n	<li style="color: rgb(54\, 138\, 156)\; line-height: 14.4px\; margin-bottom: 0px\; margin-left: 0px\; margin-right: 0px\; margin-top: 0px\; padding-bottom: 0px\; padding-left: 0px\; padding-right: 0px\; padding-top: 0px\;"><span style="font-size:16px\;">Meet lots of people quickly</span></li>\n</ul>\n\n<div style="background-color: transparent\; color: rgb(56\, 123\, 55)\; font-family: Arial\; font-size: 12px\; font-variant-numeric: normal\; font-variant-east-asian: normal\;">&nbsp\;</div>\n\n<div align="center" style="background-color: transparent\; color: rgb(56\, 123\, 55)\; font-family: Arial\; font-size: 12px\; font-variant-numeric: normal\; font-variant-east-asian: normal\; text-align: center\;"><span style="font-size:16px\;"><span style="color: rgb(255\, 176\, 20)\; font-family: Tahoma\,Geneva\,sans-serif\,serif\,&amp\;quot\;EmojiFont&amp\;quot\;\; font-weight: 700\;">SPACE IS LIMITED\, REGISTER TODAY!</span></span></div>\n\n<div align="center" style="background-color: transparent\; color: rgb(56\, 123\, 55)\; font-family: Arial\; font-size: 12px\; font-variant-numeric: normal\; font-variant-east-asian: normal\; text-align: center\;"><span style="font-size:16px\;"><span style="color: rgb(255\, 176\, 20)\; font-family: Tahoma\,Geneva\,sans-serif\,serif\,&amp\;quot\;EmojiFont&amp\;quot\;\; font-weight: 700\;">FREE event but </span><span style="color: rgb(255\, 176\, 20)\; font-weight: 700\; text-decoration-line: underline\;">MUST</span><span style="color: rgb(255\, 176\, 20)\; font-family: Tahoma\,Geneva\,sans-serif\,serif\,&amp\;quot\;EmojiFont&amp\;quot\;\; font-weight: 700\;"> be committed</span></span></div>\n\n<div align="center" style="background-color: transparent\; color: rgb(56\, 123\, 55)\; font-family: Arial\; font-size: 12px\; font-variant-numeric: normal\; font-variant-east-asian: normal\; text-align: center\;"><span style="font-size:16px\;"><span style="color: rgb(255\, 176\, 20)\; font-family: Tahoma\,Geneva\,sans-serif\,serif\,&amp\;quot\;EmojiFont&amp\;quot\;\; font-weight: 700\;">and pre-registered. </span></span></div>\n\n<div align="center" style="background-color: transparent\; color: rgb(56\, 123\, 55)\; font-family: Arial\; font-size: 12px\; font-variant-numeric: normal\; font-variant-east-asian: normal\; text-align: center\;">&nbsp\;</div>\n\n<div align="center" style="background-color: transparent\; color: rgb(56\, 123\, 55)\; font-family: Arial\; font-size: 12px\; font-variant-numeric: normal\; font-variant-east-asian: normal\; text-align: center\;"><span style="font-size:16px\;"><span style="color: rgb(54\, 138\, 156)\; font-family: Tahoma\,Geneva\,sans-serif\,serif\,&amp\;quot\;EmojiFont&amp\;quot\;\;">Limit 2 participants from each industry.</span></span></div>\n\n<div align="center" style="background-color: transparent\; color: rgb(56\, 123\, 55)\; font-family: Arial\; font-size: 12px\; font-variant-numeric: normal\; font-variant-east-asian: normal\; text-align: center\;"><span style="font-size:16px\;"><span style="color: rgb(54\, 138\, 156)\; font-family: Tahoma\,Geneva\,sans-serif\,serif\,&amp\;quot\;EmojiFont&amp\;quot\;\;">Limit one attendee per company.</span></span></div>\n\n<div align="center" style="background-color: transparent\; color: rgb(56\, 123\, 55)\; font-family: Arial\; font-size: 12px\; font-variant-numeric: normal\; font-variant-east-asian: normal\; text-align: center\;"><span style="font-size:16px\;"><span style="color: rgb(54\, 138\, 156)\; font-family: Tahoma\,Geneva\,sans-serif\,serif\,&amp\;quot\;EmojiFont&amp\;quot\;\;">Structured seating based on RSVPs.</span></span></div>\n<br />\n&nbsp\;
LOCATION:Bayberry at Emerald Court Assisted Living 2000 Emerald Court\, Tewksbury
UID:e.2938.5212
SEQUENCE:3
DTSTAMP:20260425T191535Z
URL:https://business.wilmingtontewksburychamber.org/events/details/speed-networking-at-bayberry-at-emerald-court-assisted-living-5212
END:VEVENT

END:VCALENDAR
