BEGIN:VCALENDAR
VERSION:2.0
PRODID:-//ChamberMaster//Event Calendar 2.0//EN
METHOD:PUBLISH
X-PUBLISHED-TTL:P3D
REFRESH-INTERVAL:P3D
CALSCALE:GREGORIAN
BEGIN:VEVENT
DTSTART;VALUE=DATE:20181202
DTEND;VALUE=DATE:20181203
TRANSP:TRANSPARENT
X-MICROSOFT-CDO-ALLDAYEVENT:TRUE
SUMMARY:Sons of Italy Breakfast with Santa
DESCRIPTION:Sunday\, December 2\, 2018\n\nKnights of Columbus Hall\, Wilmington\, MA\n\n\n\nTwo seatings available: 8:30-10:00 am and 10:30-12:00 noon\n\nDonation $8.00 pp   Children 3 and under free\n\nMenu includes scrambled eggs\, waffles\, hash brown patties\, bacon\, sausage\, cereal\, juice\, milk and coffee\n\nFor tickets\, contact Michele at 978-658-8284\n\nTickets must be purchased on or before November 26\, 2018\n\nTickets will not be sold at the door
X-ALT-DESC;FMTTYPE=text/html:Sunday\, December 2\, 2018<br />\nKnights of Columbus Hall\, Wilmington\, MA<br />\n<br />\nTwo seatings available: 8:30-10:00 am and 10:30-12:00 noon<br />\nDonation $8.00 pp &ndash\; Children 3 and under free<br />\nMenu includes scrambled eggs\, waffles\, hash brown patties\, bacon\, sausage\, cereal\, juice\, milk and coffee<br />\nFor tickets\, contact Michele at 978-658-8284<br />\nTickets must be purchased on or before November 26\, 2018<br />\nTickets will not be sold at the door
LOCATION:Knights of Columbus Hall\, Wilmington\, MA
UID:e.2938.5246
SEQUENCE:3
DTSTAMP:20260425T115553Z
URL:https://business.wilmingtontewksburychamber.org/events/details/sons-of-italy-breakfast-with-santa-5246
END:VEVENT

END:VCALENDAR
