BEGIN:VCALENDAR
VERSION:2.0
PRODID:-//ChamberMaster//Event Calendar 2.0//EN
METHOD:PUBLISH
X-PUBLISHED-TTL:P3D
REFRESH-INTERVAL:P3D
CALSCALE:GREGORIAN
BEGIN:VEVENT
DTSTART:20180628T180000Z
DTEND:20180628T210000Z
X-MICROSOFT-CDO-ALLDAYEVENT:FALSE
SUMMARY:SMALL BUSINESS DAY AT SALEM FIVE
DESCRIPTION:Running Your Business is Hard Enough\n\nat Salem Five\, we are committed to helping your business succeed.  We offer business banking products and services that allow you to remain focused on growing your business.\n\n	Get real-time account information easily with our mobile tools and business app. \n	Cash Management Services to fit any business size or need\, including payroll services\n	We also offer merchant credit card services\, loans and lines of credit\, corporate credit cards\, employee banking and much more!\n\nSmall Business Day\n\nJoin us to learn more about products and services Salem Five offers that can help grow and enhance your business. Partners from the following business lines will be available with product information to answer your questoins and provide advice.\n\n	COMMUNITY BUSINESS BANKING\n	SALEM FIVE INSURANCE\n	MASS PAY\n	MERCHANT SERVICES
X-ALT-DESC;FMTTYPE=text/html:<strong>Running Your Business is Hard Enough</strong><br />\nat Salem Five\, we are committed to helping your business succeed.&nbsp\; We offer business banking products and services that allow you to remain focused on growing your business.\n<ul>\n	<li>Get real-time account information easily with our mobile tools and business app.&nbsp\;</li>\n	<li>Cash Management Services to fit any business size or need\, including payroll services</li>\n	<li>We also offer merchant credit card services\, loans and lines of credit\,&nbsp\;corporate credit cards\, employee banking and much more!</li>\n</ul>\n<strong>Small Business Day</strong><br />\nJoin us to learn more about products and services Salem Five offers that can help grow and enhance your business. Partners from the following business lines will be available with product information to answer your questoins and provide advice.\n<ul>\n	<li><span style="font-size:11px">COMMUNITY BUSINESS BANKING</span></li>\n	<li><span style="font-size:11px">SALEM FIVE INSURANCE</span></li>\n	<li><span style="font-size:11px">MASS PAY</span></li>\n	<li><span style="font-size:11px">MERCHANT SERVICES</span></li>\n</ul>\n
LOCATION:SALEM FIVE BANK 2171 Main Street Tewksbury\, MA 01876
UID:e.2938.3201
SEQUENCE:3
DTSTAMP:20260425T225508Z
URL:https://business.wilmingtontewksburychamber.org/events/details/small-business-day-at-salem-five-3201
END:VEVENT

END:VCALENDAR
