BEGIN:VCALENDAR
VERSION:2.0
PRODID:-//ChamberMaster//Event Calendar 2.0//EN
METHOD:PUBLISH
X-PUBLISHED-TTL:P3D
REFRESH-INTERVAL:P3D
CALSCALE:GREGORIAN
BEGIN:VEVENT
DTSTART:20170604T163000Z
DTEND:20170604T200000Z
X-MICROSOFT-CDO-ALLDAYEVENT:FALSE
SUMMARY:Shopping Towards a Cure
DESCRIPTION:Hosted by Fit Figures and TAC Admin Resoucres\, LLC. If you live in the Salem NH area\, know someone who does or you want to take a Sunday drive\, please share\, save the date\, and help raise funds for Cure SPG47 and do a little shopping! There will be a bake sale and raffles donated by the following generous donors\, as well as booths set up for shopping: Arbonne LipSense LuLaRoe Pampered Chef Stella & Dot Thirty One All proceeds from bake sale & raffles will be donated to Cure SPG47 Cure SPG47 is a non-profit organization devoted to seeking funding & accelerating research for a cure or treatment to stop the progression of Hereditary Spastic Paraplegia type 47 (SPG47)\, an ultra-rare neurodegenerative disease. There are 15 cases of SPG47 in the world known at this time. The first 9 patients have progressed to loss of mobility in some or all extremities\, and are severely intellectually challenged. Because of the extreme rarity of SPG47\, very little research has been conducted to date\, and there is no known cure. Donations can also be made through http://curespg47.org/donations.php and https://www.gofundme.com/cure-spg47-give-47
X-ALT-DESC;FMTTYPE=text/html:Hosted by Fit Figures and TAC Admin Resoucres\, LLC. If you live in the Salem NH area\, know someone who does or you want to take a Sunday drive\, please share\, save the date\, and help raise funds for Cure SPG47 and do a little shopping! There will be a bake sale and raffles donated by the following generous donors\, as well as booths set up for shopping: Arbonne LipSense LuLaRoe Pampered Chef Stella &amp\; Dot Thirty One All proceeds from bake sale &amp\; raffles will be donated to Cure SPG47 Cure SPG47 is a non-profit organization devoted to seeking funding &amp\; accelerating research for a cure or treatment to stop the progression of Hereditary Spastic Paraplegia type 47 (SPG47)\, an ultra-rare neurodegenerative disease. There are 15 cases of SPG47 in the world known at this time. The first 9 patients have progressed to loss of mobility in some or all extremities\, and are severely intellectually challenged. Because of the extreme rarity of SPG47\, very little research has been conducted to date\, and there is no known cure. Donations can also be made through http://curespg47.org/donations.php and https://www.gofundme.com/cure-spg47-give-47
LOCATION:Fit Figures 224 N Broadway Salem\, NH 03079
UID:e.2938.30
SEQUENCE:3
DTSTAMP:20260422T043424Z
URL:https://business.wilmingtontewksburychamber.org/events/details/shopping-towards-a-cure-30
END:VEVENT

END:VCALENDAR
