BEGIN:VCALENDAR
VERSION:2.0
PRODID:-//ChamberMaster//Event Calendar 2.0//EN
METHOD:PUBLISH
X-PUBLISHED-TTL:P3D
REFRESH-INTERVAL:P3D
CALSCALE:GREGORIAN
BEGIN:VEVENT
DTSTART:20181215T170000Z
DTEND:20181215T190000Z
X-MICROSOFT-CDO-ALLDAYEVENT:FALSE
SUMMARY:Santa At Sprint
DESCRIPTION:Come get a FREE photo with Santa!
X-ALT-DESC;FMTTYPE=text/html:Come get a FREE photo with Santa!
LOCATION:Sprint Wilmington 260 Main Street Wilmington\, MA
UID:e.2938.5248
SEQUENCE:3
DTSTAMP:20260425T115251Z
URL:https://business.wilmingtontewksburychamber.org/events/details/santa-at-sprint-5248
END:VEVENT

END:VCALENDAR
