BEGIN:VCALENDAR
VERSION:2.0
PRODID:-//ChamberMaster//Event Calendar 2.0//EN
METHOD:PUBLISH
X-PUBLISHED-TTL:P3D
REFRESH-INTERVAL:P3D
CALSCALE:GREGORIAN
BEGIN:VEVENT
DTSTART:20180711T140000Z
DTEND:20180711T150000Z
X-MICROSOFT-CDO-ALLDAYEVENT:FALSE
SUMMARY:Ribbon Cutting @ Sprint
DESCRIPTION:Please join us in welcoming\n\n \n\nSPRINT\n\n\n\n to our Business Community on\n\n \n\nWednesday\, July 11th\n\n10:00 am\n\nRibbon Cutting Ceremony\n\n \n\nCome by to show your support!!
X-ALT-DESC;FMTTYPE=text/html:<div style="font-size: 12pt\; text-align: -webkit-center\; background-color: rgb(255\, 255\, 255)\; color: rgb(0\, 0\, 144)\; margin-bottom: 0px\; margin-top: 0px\;"><span style="font-family: Arial\;"><strong>Please join us in welcoming</strong></span></div>\n\n<div style="font-size: 12pt\; text-align: -webkit-center\; background-color: rgb(255\, 255\, 255)\; color: rgb(0\, 0\, 144)\; margin-bottom: 0px\; margin-top: 0px\;"><span color="#9d5c56" face="Arial" style="font-family: Arial\;">&nbsp\;</span></div>\n\n<div style="text-align: -webkit-center\; background-color: rgb(255\, 255\, 255)\; color: rgb(128\, 0\, 0)\; font-size: 14pt\; margin-bottom: 0px\; margin-top: 0px\;"><span face="Arial" style="font-family: Arial\;"><b>SPRINT</b></span></div>\n\n<div style="text-align: -webkit-center\; background-color: rgb(255\, 255\, 255)\; color: rgb(128\, 0\, 0)\; margin-bottom: 0px\; margin-top: 0px\;"><br />\n<span color="#9d5c56" face="Arial" style="font-family: Arial\;">&nbsp\;</span><span style="color: rgb(0\, 0\, 144)\; font-family: Arial\;"><strong>to our Business Community on</strong></span></div>\n\n<div style="text-align: -webkit-center\; background-color: rgb(255\, 255\, 255)\; color: rgb(0\, 0\, 144)\; margin-bottom: 0px\; margin-top: 0px\;">&nbsp\;</div>\n\n<div style="text-align: -webkit-center\; background-color: rgb(255\, 255\, 255)\; color: rgb(140\, 32\, 0)\; font-size: 14pt\; margin-bottom: 0px\; margin-top: 0px\;"><span color="#9d5c56" face="Arial" style="font-family: Arial\;"><strong>Wednesday\, July 11th</strong></span></div>\n\n<div style="text-align: -webkit-center\; background-color: rgb(255\, 255\, 255)\; color: rgb(140\, 32\, 0)\; font-size: 14pt\; margin-bottom: 0px\; margin-top: 0px\;"><span color="#9d5c56" face="Arial" style="font-family: Arial\;"><strong>10:00 am</strong></span></div>\n\n<div style="text-align: -webkit-center\; background-color: rgb(255\, 255\, 255)\; color: rgb(140\, 32\, 0)\; font-size: 14pt\; margin-bottom: 0px\; margin-top: 0px\;"><span color="#9d5c56" face="Arial" style="font-family: Arial\;"><strong>Ribbon Cutting Ceremony</strong></span></div>\n\n<div style="text-align: -webkit-center\; background-color: rgb(255\, 255\, 255)\; color: rgb(140\, 32\, 0)\; margin-bottom: 0px\; margin-top: 0px\;">&nbsp\;</div>\n\n<div style="text-align: -webkit-center\; background-color: rgb(255\, 255\, 255)\; color: rgb(0\, 0\, 144)\; margin-bottom: 0px\; font-family: Arial\, Helvetica\, sans-serif\; margin-top: 0px\;"><strong><span color="#9d5c56" face="Arial" style="font-family: Arial\;">Come by to show your support!!</span></strong></div>\n
LOCATION:Sprint 260 Main Street Wilmington
UID:e.2938.5201
SEQUENCE:3
DTSTAMP:20260425T204911Z
URL:https://business.wilmingtontewksburychamber.org/events/details/ribbon-cutting-sprint-5201
END:VEVENT

END:VCALENDAR
