BEGIN:VCALENDAR
VERSION:2.0
PRODID:-//ChamberMaster//Event Calendar 2.0//EN
METHOD:PUBLISH
X-PUBLISHED-TTL:P3D
REFRESH-INTERVAL:P3D
CALSCALE:GREGORIAN
BEGIN:VEVENT
DTSTART:20200228T150000Z
DTEND:20200228T160000Z
X-MICROSOFT-CDO-ALLDAYEVENT:FALSE
SUMMARY:Ribbon Cutting @ Danvers Indoor Sports Wilmington
DESCRIPTION:Please join us in welcoming\n\nDANVERS INDOOR SPORTS WILMINGTON\n\nto our business community.\n\nCome check out their new state-of-th-art indoor sports facility\, learn about their programs\, and meet the team.\n\n- Light Refreshments -
X-ALT-DESC;FMTTYPE=text/html:Please join us in welcoming<br />\nDANVERS INDOOR SPORTS WILMINGTON<br />\nto our business community.<br />\nCome check out their new state-of-th-art indoor sports facility\, learn about their programs\, and meet the team.<br />\n- Light Refreshments -&nbsp\;
LOCATION:Danvers Indoor Sports Wilmington 33 Upton Drive\, Wilmington
UID:e.2938.6637
SEQUENCE:3
DTSTAMP:20260424T091459Z
URL:https://business.wilmingtontewksburychamber.org/events/details/ribbon-cutting-danvers-indoor-sports-wilmington-6637
END:VEVENT

END:VCALENDAR
