BEGIN:VCALENDAR
VERSION:2.0
PRODID:-//ChamberMaster//Event Calendar 2.0//EN
METHOD:PUBLISH
X-PUBLISHED-TTL:P3D
REFRESH-INTERVAL:P3D
CALSCALE:GREGORIAN
BEGIN:VEVENT
DTSTART:20191107T213000Z
DTEND:20191107T220000Z
X-MICROSOFT-CDO-ALLDAYEVENT:FALSE
SUMMARY:Ribbon Cutting at Wilson Wolfe Real Estate
DESCRIPTION:Please join us in welcoming\n\nWilson Wolfe Real Estate\n\nto their new location at 402 Main Street.\n\nCome by to meet Owner\, Catherine Wilson and her team of Realtors.\n\n\n\nPublic Open House\n\nSaturday November 9 & Sunday November 10\n\n10 am - 2 pm
X-ALT-DESC;FMTTYPE=text/html:<div class="gl-contains-text" style="background-color: rgb(255\, 255\, 255)\;">\n<div style="font-family: Arial\, Verdana\, Helvetica\, sans-serif\; font-size: 14px\; white-space: pre-wrap\; background-color: rgb(255\, 255\, 255)\;">Please join us in welcoming<br />\n<strong><span style="color:#B22222\;">Wilson Wolfe Real Estate</span></strong><br />\nto their new location at 402 Main Street.<br />\nCome by to meet Owner\, Catherine Wilson and her team of Realtors.<br />\n<br />\nPublic Open House<br />\nSaturday November 9 &amp\; Sunday November 10<br />\n10 am - 2 pm</div>\n</div>\n
LOCATION:Wilson Wolfe Real Estate 402 Main Street\, Wilmington
UID:e.2938.6544
SEQUENCE:3
DTSTAMP:20260424T112655Z
URL:https://business.wilmingtontewksburychamber.org/events/details/ribbon-cutting-at-wilson-wolfe-real-estate-6544
END:VEVENT

END:VCALENDAR
