BEGIN:VCALENDAR
VERSION:2.0
PRODID:-//ChamberMaster//Event Calendar 2.0//EN
METHOD:PUBLISH
X-PUBLISHED-TTL:P3D
REFRESH-INTERVAL:P3D
CALSCALE:GREGORIAN
BEGIN:VEVENT
DTSTART:20190604T163000Z
DTEND:20190604T173000Z
X-MICROSOFT-CDO-ALLDAYEVENT:FALSE
SUMMARY:Ribbon Cutting at Partners In Rehab\, PT
DESCRIPTION:Please join us in welcoming\n\n			Partners In Rehab Physical Therapy \n\n			to our business community.\n\n			 \n\n			Come show your support for Joseph D'Angelo and his talented team and check out their new faciltiy.\n			\n			\n		\n	\n\n\n\n\n\n	\n		\n			\n			 \n\n			\n			Tuesday\, June 4th\n\n			12:30 pm\n\n			~ Light Refreshments ~\n\n			 \n\n			All Welcome
X-ALT-DESC;FMTTYPE=text/html:<div class="gl-contains-text" style="background-color: rgb(255\, 255\, 255)\;">\n<table border="0" cellpadding="0" cellspacing="0" style="border-collapse: collapse\; table-layout: fixed\;" width="100%">\n	<tbody>\n		<tr>\n			<td align="left" class="editor-text " style="-webkit-font-smoothing: antialiased\; font-family: Arial\, Verdana\, Helvetica\, sans-serif\; font-size: 14px\; display: block\; overflow-wrap: break-word\; line-height: 1.2\; padding: 10px 20px 10px 10px\;" valign="top">\n			<div class="text-container galileo-ap-content-editor">\n			<div align="center" style="text-align: center\;"><span style="font-size: 16px\; color: rgb(94\, 8\, 13)\;">Please j</span><span style="font-size: 16px\; color: rgb(82\, 49\, 130)\;">oin us in welcoming<br />\n			Partners In Rehab Physical Therapy&nbsp\;<br />\n			to our business community.</span></div>\n\n			<div align="center" style="text-align: center\;">&nbsp\;</div>\n\n			<div align="center" style="text-align: center\;"><span style="font-size: 16px\; color: rgb(82\, 49\, 130)\;">Come show your support for Joseph D&#39\;Angelo and his talented team and check out their new faciltiy.</span></div>\n			</div>\n			</td>\n		</tr>\n	</tbody>\n</table>\n</div>\n\n<div class="gl-contains-text" style="background-color: rgb(255\, 255\, 255)\;">\n<table border="0" cellpadding="0" cellspacing="0" style="border-collapse: collapse\; table-layout: fixed\;" width="100%">\n	<tbody>\n		<tr>\n			<td align="left" class="editor-text article-heading-text" style="-webkit-font-smoothing: antialiased\; font-family: Arial\, Verdana\, Helvetica\, sans-serif\; font-size: 18px\; color: rgb(209\, 230\, 209)\; display: block\; overflow-wrap: break-word\; line-height: 1.2\; font-weight: bold\; padding: 10px 20px 10px 10px\;" valign="top">\n			<div>&nbsp\;</div>\n\n			<div class="text-container galileo-ap-content-editor">\n			<div align="center" style="text-align: center\;"><span style="color: rgb(82\, 49\, 130)\;">Tuesday\, June 4th</span></div>\n\n			<div align="center" style="text-align: center\;"><span style="color: rgb(82\, 49\, 130)\;">12:30 pm</span></div>\n\n			<div align="center" style="text-align: center\;"><span style="color: rgb(82\, 49\, 130)\;">~ Light Refreshments ~</span></div>\n\n			<div align="center" style="text-align: center\;">&nbsp\;</div>\n\n			<div align="center" style="text-align: center\;"><span style="color: rgb(82\, 49\, 130)\;">All Welcome</span></div>\n			</div>\n			</td>\n		</tr>\n	</tbody>\n</table>\n</div>\n
LOCATION:50 Concord Street Suite 150 Wilmington\, MA 01887
UID:e.2938.5296
SEQUENCE:3
DTSTAMP:20260425T030406Z
URL:https://business.wilmingtontewksburychamber.org/events/details/ribbon-cutting-at-partners-in-rehab-pt-5296
END:VEVENT

END:VCALENDAR
