BEGIN:VCALENDAR
VERSION:2.0
PRODID:-//ChamberMaster//Event Calendar 2.0//EN
METHOD:PUBLISH
X-PUBLISHED-TTL:P3D
REFRESH-INTERVAL:P3D
CALSCALE:GREGORIAN
BEGIN:VEVENT
DTSTART:20210326T150000Z
DTEND:20210326T160000Z
X-MICROSOFT-CDO-ALLDAYEVENT:FALSE
SUMMARY:Ribbon Cutting at HealthPlus Urgent Care
DESCRIPTION:Please join us at a\n\nRibbon Cutting Ceremony\n\nto welcome\n\nHealthPlus Urgent Care\n\nto our business community.\n\n(masks required)
X-ALT-DESC;FMTTYPE=text/html:<div class="gl-contains-text" style="background-color: rgb(255\, 255\, 255)\;">\n<div style="font-family: Arial\, Verdana\, Helvetica\, sans-serif\; font-size: 14px\; white-space: pre-wrap\; background-color: rgb(255\, 255\, 255)\; text-align: center\;"><span style="font-size:20px\;">Please join us at a<br />\nRibbon Cutting Ceremony<br />\nto welcome<br />\n<strong><span style="color:#B22222\;">HealthPlus Urgent Care</span></strong><br />\nto our business community.<br />\n<span style="font-size:16px\;">(masks required)</span></span><br />\n&nbsp\;</div>\n</div>\n
LOCATION:HealthPlus Urgent Care 240 Main Street\, Wilmington Market Basket Plaza
UID:e.2938.6670
SEQUENCE:3
DTSTAMP:20260425T135014Z
URL:https://business.wilmingtontewksburychamber.org/events/details/ribbon-cutting-at-healthplus-urgent-care-6670
END:VEVENT

END:VCALENDAR
